BEGIN:VCALENDAR
VERSION:2.0
PRODID:-//ChamberMaster//Event Calendar 2.0//EN
METHOD:PUBLISH
X-PUBLISHED-TTL:P3D
REFRESH-INTERVAL:P3D
CALSCALE:GREGORIAN
BEGIN:VEVENT
DTSTART:20180920T220000Z
DTEND:20180921T000000Z
X-MICROSOFT-CDO-ALLDAYEVENT:FALSE
SUMMARY:Business After 5 - Vintage Brewing Co.
DESCRIPTION:Join us for a night of fun\, networking and relaxation!
X-ALT-DESC;FMTTYPE=text/html:Join us for a night of fun\, networking and relaxation!
LOCATION:Vintage Brewing Co.
UID:e.1184.20759
SEQUENCE:3
DTSTAMP:20260424T064206Z
URL:http://members.saukprairie.com/events/details/business-after-5-vintage-brewing-co-20759
END:VEVENT

END:VCALENDAR
