BEGIN:VCALENDAR
VERSION:2.0
PRODID:-//ChamberMaster//Event Calendar 2.0//EN
METHOD:PUBLISH
X-PUBLISHED-TTL:P3D
REFRESH-INTERVAL:P3D
CALSCALE:GREGORIAN
BEGIN:VEVENT
DTSTART;VALUE=DATE:20181217
DTEND;VALUE=DATE:20181218
TRANSP:TRANSPARENT
X-MICROSOFT-CDO-ALLDAYEVENT:TRUE
SUMMARY:Business Card Mondays
DESCRIPTION:Dunkin' Donuts is happy to announce the beginning of "Business Card Monday's". \n\n\n\nBring in your business card on any Monday and receive 10% off your entire order! (Excludes K-Cups)\n\n\n\nYou will also be entered into our monthly drawing for a free dozen donuts and Box-O-Joe!\n\n\n\nOffer and contest are exclusive to your Sauk City Dunkin Donuts.
X-ALT-DESC;FMTTYPE=text/html:Dunkin&#39\; Donuts is happy to announce the beginning of &quot\;Business Card Monday&#39\;s&quot\;.&nbsp\;<br />\n<br />\nBring in your business card on any Monday and receive 10% off your entire order! (Excludes K-Cups)<br />\n<br />\nYou will also be entered into our monthly drawing for a free dozen donuts and Box-O-Joe!<br />\n<br />\nOffer and contest are exclusive to your Sauk City Dunkin Donuts.
LOCATION:410 Phillips Blvd. Sauk City
UID:e.1184.14096
SEQUENCE:3
DTSTAMP:20260424T004211Z
URL:http://members.saukprairie.com/events/details/business-card-monday-s-12-17-2018-14096
END:VEVENT

END:VCALENDAR
