BEGIN:VCALENDAR
VERSION:2.0
PRODID:-//ChamberMaster//Event Calendar 2.0//EN
METHOD:PUBLISH
X-PUBLISHED-TTL:P3D
REFRESH-INTERVAL:P3D
CALSCALE:GREGORIAN
BEGIN:VEVENT
DTSTART:20170823T133000Z
DTEND:20170823T213000Z
X-MICROSOFT-CDO-ALLDAYEVENT:FALSE
SUMMARY:Business Tax Basics
DESCRIPTION:Business Tax Basics for Small Business\n\n\n\nThis one Day program is your chance to learn about federal and state taxes including payroll\, unemployment compensation and sales taxes. You will learn about the pros and cons of different entity types from both the legal and financial aspects.\n\n\n\nMorning general session includes:\n\n\n	Introduction to Payroll Taxes\n	"Employee" vs "Independent Contractor" status\n	Deposit requirements and how to make deposits\n	Tax returns to file\n	Workers compensation\n	Choosing a form of business\, pros and cons of legal business entities:\n	\n		Partnerships and LLC/LLP\n		Sole Proprietorship\n		S-Corp or C-Corp\n	\n	\n\n\nThe afternoon breakout sessions are based on your choice of business entity. \n\n \n\n\n	Deductions to reduce taxes\n	Tax forms & record keeping\n	Depreciation\n	\n		Home business\n		Business use of a car\n	\n	\n	 Register on line or Call to register at 608-262-3909
X-ALT-DESC;FMTTYPE=text/html:<p style="margin: 10px 15px 18px 0px\; padding: 0px\; border: 0px\; outline: 0px\; font-size: 13.008px\; vertical-align: baseline\; background-image: initial\; background-position: initial\; background-size: initial\; background-repeat: initial\; background-attachment: initial\; background-origin: initial\; background-clip: initial\; color: rgb(68\, 68\, 68)\; font-family: &quot\;Tahoma W01&quot\;\, Tahoma\, Verdana\, Segoe\, sans-serif\;"><strong style="margin: 0px\; padding: 0px\; border: 0px\; outline: 0px\; font-size: 13.008px\; vertical-align: baseline\; background: transparent\;">Business Tax Basics for Small Business</strong><br style="margin: 0px\; padding: 0px\;" />\n<br style="margin: 0px\; padding: 0px\;" />\nThis one Day program is your chance to learn about federal and state taxes including payroll\, unemployment compensation and sales taxes. You will learn about the pros and cons of different entity types from both the legal and financial aspects.<br style="margin: 0px\; padding: 0px\;" />\n<br style="margin: 0px\; padding: 0px\;" />\n<strong style="margin: 0px\; padding: 0px\; border: 0px\; outline: 0px\; font-size: 13.008px\; vertical-align: baseline\; background: transparent\;">Morning general session&nbsp\;includes:</strong></p>\n\n<ul class="redSquares" style="margin: 0px 0px 20px 17px\; padding-right: 0px\; padding-left: 15px\; border: 0px\; outline: 0px\; font-size: 13.008px\; vertical-align: baseline\; background-image: initial\; background-position: initial\; background-size: initial\; background-repeat: initial\; background-attachment: initial\; background-origin: initial\; background-clip: initial\; list-style: square outside none\; color: rgb(68\, 68\, 68)\; font-family: &quot\;Tahoma W01&quot\;\, Tahoma\, Verdana\, Segoe\, sans-serif\;">\n	<li style="margin: 0px\; padding: 0px 0px 5px\; border: 0px\; outline: 0px\; font-size: 1em\; vertical-align: baseline\; background: transparent\; color: rgb(73\, 63\, 56)\; list-style: none outside url(&quot\;/_images/global/bullets/870_8x8.png&quot\;)\; line-height: 1.25em\;">Introduction to Payroll Taxes</li>\n	<li style="margin: 0px\; padding: 0px 0px 5px\; border: 0px\; outline: 0px\; font-size: 1em\; vertical-align: baseline\; background: transparent\; color: rgb(73\, 63\, 56)\; list-style: none outside url(&quot\;/_images/global/bullets/870_8x8.png&quot\;)\; line-height: 1.25em\;">&quot\;Employee&quot\; vs &quot\;Independent Contractor&quot\; status</li>\n	<li style="margin: 0px\; padding: 0px 0px 5px\; border: 0px\; outline: 0px\; font-size: 1em\; vertical-align: baseline\; background: transparent\; color: rgb(73\, 63\, 56)\; list-style: none outside url(&quot\;/_images/global/bullets/870_8x8.png&quot\;)\; line-height: 1.25em\;">Deposit requirements and how to make deposits</li>\n	<li style="margin: 0px\; padding: 0px 0px 5px\; border: 0px\; outline: 0px\; font-size: 1em\; vertical-align: baseline\; background: transparent\; color: rgb(73\, 63\, 56)\; list-style: none outside url(&quot\;/_images/global/bullets/870_8x8.png&quot\;)\; line-height: 1.25em\;">Tax returns to file</li>\n	<li style="margin: 0px\; padding: 0px 0px 5px\; border: 0px\; outline: 0px\; font-size: 1em\; vertical-align: baseline\; background: transparent\; color: rgb(73\, 63\, 56)\; list-style: none outside url(&quot\;/_images/global/bullets/870_8x8.png&quot\;)\; line-height: 1.25em\;">Workers compensation</li>\n	<li style="margin: 0px\; padding: 0px 0px 5px\; border: 0px\; outline: 0px\; font-size: 1em\; vertical-align: baseline\; background: transparent\; color: rgb(73\, 63\, 56)\; list-style: none outside url(&quot\;/_images/global/bullets/870_8x8.png&quot\;)\; line-height: 1.25em\;">Choosing a form of business\, pros and cons of legal business entities:\n	<ul style="margin: 0px 0px 20px 15px\; padding-right: 0px\; padding-left: 15px\; border: 0px\; outline: 0px\; font-size: 13.008px\; vertical-align: baseline\; background: transparent\; list-style: square outside none\;">\n		<li style="margin: 0px\; padding: 0px 0px 5px\; border: 0px\; outline: 0px\; font-size: 1em\; vertical-align: baseline\; background: transparent\; list-style: none outside url(&quot\;/_images/global/bullets/870_8x8.png&quot\;)\; line-height: 1.25em\;">Partnerships and LLC/LLP</li>\n		<li style="margin: 0px\; padding: 0px 0px 5px\; border: 0px\; outline: 0px\; font-size: 1em\; vertical-align: baseline\; background: transparent\; list-style: none outside url(&quot\;/_images/global/bullets/870_8x8.png&quot\;)\; line-height: 1.25em\;">Sole Proprietorship</li>\n		<li style="margin: 0px\; padding: 0px 0px 5px\; border: 0px\; outline: 0px\; font-size: 1em\; vertical-align: baseline\; background: transparent\; list-style: none outside url(&quot\;/_images/global/bullets/870_8x8.png&quot\;)\; line-height: 1.25em\;">S-Corp or C-Corp</li>\n	</ul>\n	</li>\n</ul>\n\n<p style="margin: 10px 15px 18px 0px\; padding: 0px\; border: 0px\; outline: 0px\; font-size: 13.008px\; vertical-align: baseline\; background-image: initial\; background-position: initial\; background-size: initial\; background-repeat: initial\; background-attachment: initial\; background-origin: initial\; background-clip: initial\; color: rgb(68\, 68\, 68)\; font-family: &quot\;Tahoma W01&quot\;\, Tahoma\, Verdana\, Segoe\, sans-serif\;"><strong style="margin: 0px\; padding: 0px\; border: 0px\; outline: 0px\; font-size: 13.008px\; vertical-align: baseline\; background: transparent\;">The afternoon breakout sessions are based on your choice of business entity.&nbsp\;</strong><br style="margin: 0px\; padding: 0px\;" />\n&nbsp\;</p>\n\n<ul class="redSquares" style="margin: 0px 0px 20px 17px\; padding-right: 0px\; padding-left: 15px\; border: 0px\; outline: 0px\; font-size: 13.008px\; vertical-align: baseline\; background-image: initial\; background-position: initial\; background-size: initial\; background-repeat: initial\; background-attachment: initial\; background-origin: initial\; background-clip: initial\; list-style: square outside none\; color: rgb(68\, 68\, 68)\; font-family: &quot\;Tahoma W01&quot\;\, Tahoma\, Verdana\, Segoe\, sans-serif\;">\n	<li style="margin: 0px\; padding: 0px 0px 5px\; border: 0px\; outline: 0px\; font-size: 1em\; vertical-align: baseline\; background: transparent\; color: rgb(73\, 63\, 56)\; list-style: none outside url(&quot\;/_images/global/bullets/870_8x8.png&quot\;)\; line-height: 1.25em\;">Deductions to reduce taxes</li>\n	<li style="margin: 0px\; padding: 0px 0px 5px\; border: 0px\; outline: 0px\; font-size: 1em\; vertical-align: baseline\; background: transparent\; color: rgb(73\, 63\, 56)\; list-style: none outside url(&quot\;/_images/global/bullets/870_8x8.png&quot\;)\; line-height: 1.25em\;">Tax forms &amp\; record keeping</li>\n	<li style="margin: 0px\; padding: 0px 0px 5px\; border: 0px\; outline: 0px\; font-size: 1em\; vertical-align: baseline\; background: transparent\; color: rgb(73\, 63\, 56)\; list-style: none outside url(&quot\;/_images/global/bullets/870_8x8.png&quot\;)\; line-height: 1.25em\;">Depreciation\n	<ul style="margin: 0px 0px 20px 15px\; padding-right: 0px\; padding-left: 15px\; border: 0px\; outline: 0px\; font-size: 13.008px\; vertical-align: baseline\; background: transparent\; list-style: square outside none\;">\n		<li style="margin: 0px\; padding: 0px 0px 5px\; border: 0px\; outline: 0px\; font-size: 1em\; vertical-align: baseline\; background: transparent\; list-style: none outside url(&quot\;/_images/global/bullets/870_8x8.png&quot\;)\; line-height: 1.25em\;">Home business</li>\n		<li style="margin: 0px\; padding: 0px 0px 5px\; border: 0px\; outline: 0px\; font-size: 1em\; vertical-align: baseline\; background: transparent\; list-style: none outside url(&quot\;/_images/global/bullets/870_8x8.png&quot\;)\; line-height: 1.25em\;">Business use of a car</li>\n	</ul>\n	</li>\n	<li style="margin: 0px\; padding: 0px 0px 5px\; border: 0px\; outline: 0px\; font-size: 1em\; vertical-align: baseline\; background: transparent\; list-style: none outside url(&quot\;/_images/global/bullets/870_8x8.png&quot\;)\; line-height: 1.25em\;"><span style="color: rgb(68\, 68\, 68)\; font-family: &quot\;Tahoma W01&quot\;\, Tahoma\, Verdana\, Segoe\, sans-serif\; font-size: 13.008px\;">&nbsp\;</span><strong style="margin: 0px\; padding: 0px\; border: 0px\; outline: 0px\; font-size: 13.008px\; vertical-align: baseline\; background-image: initial\; background-position: initial\; background-size: initial\; background-repeat: initial\; background-attachment: initial\; background-origin: initial\; background-clip: initial\; color: rgb(68\, 68\, 68)\; font-family: &quot\;Tahoma W01&quot\;\, Tahoma\, Verdana\, Segoe\, sans-serif\;"><strong style="margin: 0px\; padding: 0px\; font-size: 13.008px\; vertical-align: baseline\; background: transparent\; color: rgb(127\, 63\, 117)\; text-decoration-line: none\; outline: 0px\; -webkit-tap-highlight-color: rgb(176\, 6\, 6)\; border: 0px\;"><a data-gaaction="Link Outside Ecosystem" data-gacategory="Links" data-galabel="https://uw.ungerboeck.com/prod/emc00/register.aspx?OrgCode=10&amp\;EvtID=21141&amp\;AppCode=REG&amp\;CC=116111053612&amp\;REGTYPE=3100-103%20" href="https://uw.ungerboeck.com/prod/emc00/register.aspx?OrgCode=10&amp\;EvtID=21141&amp\;AppCode=REG&amp\;CC=116111053612&amp\;REGTYPE=3100-103%20" style="margin: 0px\; padding: 0px\; font-size: 13.008px\; vertical-align: baseline\; background: transparent\; color: rgb(127\, 63\, 117)\; text-decoration-line: none\; outline: 0px\; -webkit-tap-highlight-color: rgb(176\, 6\, 6)\;">Register on line</a>&nbsp\;</strong></strong><strong style="margin: 0px\; padding: 0px\; border: 0px\; outline: 0px\; font-size: 13.008px\; vertical-align: baseline\; background-image: initial\; background-position: initial\; background-size: initial\; background-repeat: initial\; background-attachment: initial\; background-origin: initial\; background-clip: initial\; color: rgb(68\, 68\, 68)\; font-family: &quot\;Tahoma W01&quot\;\, Tahoma\, Verdana\, Segoe\, sans-serif\;">or Call to register at 608-262-3909</strong></li>\n</ul>\n
LOCATION:Grainger Hall\, UW-Madison
UID:e.1184.11840
SEQUENCE:3
DTSTAMP:20260425T014752Z
URL:http://members.saukprairie.com/events/details/business-tax-basics-11840
END:VEVENT

END:VCALENDAR
