BEGIN:VCALENDAR
VERSION:2.0
PRODID:-//ChamberMaster//Event Calendar 2.0//EN
METHOD:PUBLISH
X-PUBLISHED-TTL:P3D
REFRESH-INTERVAL:P3D
CALSCALE:GREGORIAN
BEGIN:VEVENT
DTSTART:20241130T140000Z
DTEND:20241130T200000Z
X-MICROSOFT-CDO-ALLDAYEVENT:FALSE
SUMMARY:Buzzed Bean Coffee Co. @ Lattes with Llamas
DESCRIPTION:Come join Buzzed Bean Coffee Co. at Plain Pastures for their first ever 'Lattes with Llamas' event!\n\n\n\nWHAT IS ALL GOING ON?\n\n-Buzzed Bean Coffee Co. will be serving delicious drinks\n\n-Pet and interact with the llamas from Plain Pastures\n\n-Adorable photo booth with a llama\n\n-Llama Christmas ornament making station for the kiddos\n\n-Plain Pastures booth where you can get all sorts of llama goodies\n\n-Back 40 Boutique Booth
X-ALT-DESC;FMTTYPE=text/html:Come join Buzzed Bean Coffee Co. at Plain Pastures for their first ever &#39\;Lattes with Llamas&#39\; event!<br />\n<br />\nWHAT IS ALL GOING ON?<br />\n-Buzzed Bean Coffee Co. will be serving delicious drinks<br />\n-Pet and interact with the llamas from Plain Pastures<br />\n-Adorable photo booth with a llama<br />\n-Llama Christmas ornament making station for the kiddos<br />\n-Plain Pastures booth where you can get all sorts of llama goodies<br />\n-Back 40 Boutique Booth
LOCATION:Plain Pastures S9651 Marklein Rd\, Plain\, WI 53577
UID:e.1184.34533
SEQUENCE:3
DTSTAMP:20260419T131029Z
URL:http://members.saukprairie.com/events/details/buzzed-bean-coffee-co-at-lattes-with-llamas-34533
END:VEVENT

END:VCALENDAR
