BEGIN:VCALENDAR
VERSION:2.0
PRODID:-//ChamberMaster//Event Calendar 2.0//EN
METHOD:PUBLISH
X-PUBLISHED-TTL:P3D
REFRESH-INTERVAL:P3D
CALSCALE:GREGORIAN
BEGIN:VEVENT
DTSTART:20240929T140000Z
DTEND:20240929T210000Z
X-MICROSOFT-CDO-ALLDAYEVENT:FALSE
SUMMARY:Buzzed Bean Coffee Co. @ Hill & Valley Exploration Tour
DESCRIPTION:The Hill and Valley Exploration Tour: a celebration of rural living is a unique opportunity to explore the vibrant and resilient small farm community of Northern Sauk and Richland Counties! On the tour you can easily find local food and art producers\, learn about the changing face of rural America\, dine at a true Farm-to-Fork country eatery\, find hidden gems\, and visit a historic Folk Art site. Don't forget to bring your cooler to hold all your farm fresh purchases\, an extra sweater\, and the mud boots\; this is country fun   rain or shine!
X-ALT-DESC;FMTTYPE=text/html:The Hill and Valley Exploration Tour: a celebration of rural living is a unique opportunity to explore the vibrant and resilient small farm community of Northern Sauk and Richland Counties! On the tour you can easily find local food and art producers\, learn about the changing face of rural America\, dine at a&nbsp\;true Farm-to-Fork country eatery\, find hidden gems\, and visit a&nbsp\;historic Folk Art site. Don&rsquo\;t forget to bring your cooler to hold all your farm fresh purchases\, an extra sweater\, and the mud boots\; this is country fun &mdash\; rain or shine!
LOCATION:Wilkinson Farms Meat and Produce
UID:e.1184.33057
SEQUENCE:3
DTSTAMP:20260419T150156Z
URL:http://members.saukprairie.com/events/details/buzzed-bean-coffee-co-hill-valley-exploration-tour-09-29-2024-33057
END:VEVENT

END:VCALENDAR
