BEGIN:VCALENDAR
VERSION:2.0
PRODID:-//ChamberMaster//Event Calendar 2.0//EN
METHOD:PUBLISH
X-PUBLISHED-TTL:P3D
REFRESH-INTERVAL:P3D
CALSCALE:GREGORIAN
BEGIN:VEVENT
DTSTART:20241012T140000Z
DTEND:20241012T200000Z
X-MICROSOFT-CDO-ALLDAYEVENT:FALSE
SUMMARY:Buzzed Bean Coffee Co @ The Funny Farm Barn Sale
DESCRIPTION:Join us at The Funny Farm for their Barn Sale! Find a wide variety of local artists and handcrafted vendors. Candles\, jewelry\, paintings\, signs\, photography\, baked goods\, vintage crafts\, handcrafted tables\, local farm produce\, and more! Kick back\, relax\, and soak up a fall day in the beautiful country.
X-ALT-DESC;FMTTYPE=text/html:Join us at The Funny Farm for their Barn Sale! Find a wide variety of local artists and handcrafted vendors. Candles\, jewelry\, paintings\, signs\, photography\, baked goods\, vintage crafts\, handcrafted tables\, local farm produce\, and more! Kick back\, relax\, and soak up a fall day in the beautiful country.
LOCATION:The Funny Farm
UID:e.1184.33058
SEQUENCE:3
DTSTAMP:20260419T160716Z
URL:http://members.saukprairie.com/events/details/buzzed-bean-coffee-co-the-funny-farm-barn-sale-33058
END:VEVENT

END:VCALENDAR
