BEGIN:VCALENDAR
VERSION:2.0
PRODID:-//ChamberMaster//Event Calendar 2.0//EN
METHOD:PUBLISH
X-PUBLISHED-TTL:P3D
REFRESH-INTERVAL:P3D
CALSCALE:GREGORIAN
BEGIN:VEVENT
DTSTART:20200520T193000Z
DTEND:20200520T203000Z
X-MICROSOFT-CDO-ALLDAYEVENT:FALSE
SUMMARY:Buzzing for Bees
DESCRIPTION:Darin from Prairie Gold will teach us about bees and making honey at the Ruth Culver Community Library Wednesday\, May 20 at 2:30 p.m.  Honey sampling and bee crafts included! This Early Release Wednesday event is appropriate for grades K-5. Contact Beth at 643-8318 with questions.
X-ALT-DESC;FMTTYPE=text/html:Darin from Prairie Gold will teach us about bees and making honey at the Ruth Culver Community Library Wednesday\, May 20 at 2:30 p.m.&nbsp\; Honey sampling and bee crafts included! This Early Release Wednesday event is appropriate for grades K-5. Contact Beth at 643-8318 with questions.
LOCATION:Ruth Culver Community Library 540 Water Street\, Prairie du Sac
UID:e.1184.23919
SEQUENCE:3
DTSTAMP:20260423T001241Z
URL:http://members.saukprairie.com/events/details/buzzing-for-bees-23919
END:VEVENT

END:VCALENDAR
