BEGIN:VCALENDAR
VERSION:2.0
PRODID:-//ChamberMaster//Event Calendar 2.0//EN
METHOD:PUBLISH
X-PUBLISHED-TTL:P3D
REFRESH-INTERVAL:P3D
CALSCALE:GREGORIAN
BEGIN:VEVENT
DTSTART:20191102T141500Z
DTEND:20191102T160000Z
X-MICROSOFT-CDO-ALLDAYEVENT:FALSE
SUMMARY:BYOB Yoga: Bring Your Own Baby Yoga
DESCRIPTION:If you want to get your exercise but don't want to leave your baby behind\, check out our special Baby Connection event BYOB: Bring Your Own Baby Yoga. Presented by the Sauk Prairie Healthcare Birth Center. Kristin Enge of Humble Yoga will show you how to incorporate your baby in yoga techniques to develop strength\, flexibility\, and bonding between you and your baby. Moms\, dads\, grandparents and other caregivers are welcome to join in with their infant (up to crawling-age) at Ruth Culver Community Library on November 2. The event starts at 9:15 a.m. with mats down and yoga commencing at 9:30 a.m. Yoga mats will be available for those who do not have their own. To ensure accommodation for all attendees\, please RSVP to Kristin at 608-354-9155 or humbleyogallc@gmail.com\, or for more information about Baby Connection call the Sauk Prairie Healthcare Birth Center at 608-643-7223.
X-ALT-DESC;FMTTYPE=text/html:If you want to get your exercise but don&rsquo\;t want to leave your baby behind\, check out our special Baby Connection event BYOB: Bring Your Own Baby Yoga. Presented by the Sauk Prairie Healthcare Birth Center. Kristin Enge of Humble Yoga will show you how to incorporate your baby in yoga techniques to develop strength\, flexibility\, and bonding between you and your baby. Moms\, dads\, grandparents and other caregivers are welcome to join in with their infant (up to crawling-age) at Ruth Culver Community Library on November 2. The event starts at 9:15 a.m. with mats down and yoga commencing at 9:30 a.m. Yoga mats will be available for those who do not have their own. To ensure accommodation for all attendees\, please RSVP to Kristin at 608-354-9155 or humbleyogallc@gmail.com\, or for more information about Baby Connection call the Sauk Prairie Healthcare Birth Center at 608-643-7223.
LOCATION:Ruth Culver Community Library 450 Water Street Prairie du Sac\, WI 53578
UID:e.1184.23619
SEQUENCE:3
DTSTAMP:20260423T083803Z
URL:http://members.saukprairie.com/events/details/byob-yoga-bring-your-own-baby-yoga-23619
END:VEVENT

END:VCALENDAR
