BEGIN:VCALENDAR
VERSION:2.0
PRODID:-//ChamberMaster//Event Calendar 2.0//EN
METHOD:PUBLISH
X-PUBLISHED-TTL:P3D
REFRESH-INTERVAL:P3D
CALSCALE:GREGORIAN
BEGIN:VEVENT
DTSTART:20200405T000000Z
DTEND:20200405T020000Z
X-MICROSOFT-CDO-ALLDAYEVENT:FALSE
SUMMARY:Cabaret on 9th
DESCRIPTION:Cabaret on 9th\n\nat the River Arts Center (high school) | 105-9th St.\, Prairie du Sac\, WI 53578\n\nSaturday\, April 4\, 2020 | 7pm-9pm\n\nTickets: $12/members\, $15/non-members\n\nCabaret on 9th shows will feature several local performers.  Limited seating available as the shows will be performed entirely on the stage at the Sauk Prairie River Arts Center.\n\nThe April show will feature Meg Aspinwall\, Matt Brennan\, Lindsey Giese\, and special guests.
X-ALT-DESC;FMTTYPE=text/html:<p><strong>Cabaret on 9th</strong></p>\n\n<p><strong>at the River Arts Center (high school) | 105-9th St.\, Prairie du Sac\, WI 53578</strong></p>\n\n<p>Saturday\, April 4\, 2020 | 7pm-9pm</p>\n\n<p>Tickets: $12/<a href="https://www.riverartsinc.org/volunteer-contribute" style="margin: 0px\; padding: 0px\; color: rgb(193\, 193\, 204)\;">members</a>\, $15/non-members</p>\n\n<p>Cabaret on 9<span style="font-size:9.75px">th</span>&nbsp\;shows will feature several local performers.&nbsp\; Limited seating available as the shows will be performed entirely on the stage at the Sauk Prairie River Arts Center.</p>\n\n<p>The April show will feature Meg Aspinwall\, Matt Brennan\, Lindsey Giese\, and special guests.</p>\n
LOCATION:River Arts Center (high school) | 105-9th St.\, Prairie du Sac\, WI 53578
UID:e.1184.24069
SEQUENCE:3
DTSTAMP:20260423T011812Z
URL:http://members.saukprairie.com/events/details/cabaret-on-9th-24069
END:VEVENT

END:VCALENDAR
