BEGIN:VCALENDAR
VERSION:2.0
PRODID:-//ChamberMaster//Event Calendar 2.0//EN
METHOD:PUBLISH
X-PUBLISHED-TTL:P3D
REFRESH-INTERVAL:P3D
CALSCALE:GREGORIAN
BEGIN:VEVENT
DTSTART:20210805T000000Z
DTEND:20210805T020000Z
X-MICROSOFT-CDO-ALLDAYEVENT:FALSE
SUMMARY:Camela Widad at Vintage Brewing Co.
DESCRIPTION:Live music at Vintage Brewing Co. preformed by Camela Widad
X-ALT-DESC;FMTTYPE=text/html:Live music at Vintage Brewing Co. preformed by Camela Widad
LOCATION:Vintage Brewing Company Sauk Prairie\, WI
UID:e.1184.26684
SEQUENCE:3
DTSTAMP:20260422T004153Z
URL:http://members.saukprairie.com/events/details/camela-widad-at-vintage-brewing-co-26684
END:VEVENT

END:VCALENDAR
