BEGIN:VCALENDAR
VERSION:2.0
PRODID:-//ChamberMaster//Event Calendar 2.0//EN
METHOD:PUBLISH
X-PUBLISHED-TTL:P3D
REFRESH-INTERVAL:P3D
CALSCALE:GREGORIAN
BEGIN:VEVENT
DTSTART;VALUE=DATE:20171201
DTEND;VALUE=DATE:20171204
TRANSP:TRANSPARENT
X-MICROSOFT-CDO-ALLDAYEVENT:TRUE
SUMMARY:Cameo Antique Mall 15% Off Sale!
DESCRIPTION:CAMEO MALL celebrates 15 years in business thru a series of Holiday Open Houses including Storewide Sale of 15% OFF December 1\, 2 &3\; Homemade Treats\; Raffles & Gift Certificates
X-ALT-DESC;FMTTYPE=text/html:<span style="color: rgb(75\, 79\, 86)\; font-family: Helvetica\, Arial\, sans-serif\; font-size: 14px\;">CAMEO MALL celebrates 15 years in business thru a series of Holiday Open Houses including Storewide Sale of 15% OFF December 1\, 2 &amp\;3\; Homemade Treats\; Raffles &amp\; Gift Certificates</span>
LOCATION:Cameo Antique Mall 827 Water St\, Sauk City\, Wisconsin 53583
UID:e.1184.14520
SEQUENCE:3
DTSTAMP:20260424T193337Z
URL:http://members.saukprairie.com/events/details/cameo-antique-mall-15-off-sale-14520
END:VEVENT

END:VCALENDAR
