BEGIN:VCALENDAR
VERSION:2.0
PRODID:-//ChamberMaster//Event Calendar 2.0//EN
METHOD:PUBLISH
X-PUBLISHED-TTL:P3D
REFRESH-INTERVAL:P3D
CALSCALE:GREGORIAN
BEGIN:VEVENT
DTSTART;VALUE=DATE:20161130
DTEND;VALUE=DATE:20170102
TRANSP:TRANSPARENT
X-MICROSOFT-CDO-ALLDAYEVENT:TRUE
SUMMARY:Cameo Antique Mall Holiday Offers!
DESCRIPTION:Cameo Antiques is now open until 7pm on Thursdays until December 31\n	Cameo Antiques is running a holiday sale: 10% off with credit/debit card\, 15% off with cash or check\, excludes firms and mark downs and goes until January 1
X-ALT-DESC;FMTTYPE=text/html:<ol>\n	<li>Cameo Antiques is now open until 7pm on Thursdays until December 31</li>\n	<li>Cameo Antiques is running a holiday sale: 10% off with credit/debit card\, 15% off with cash or check\, excludes firms and mark downs and goes until January 1</li>\n</ol>\n
LOCATION:
UID:e.1184.9745
SEQUENCE:3
DTSTAMP:20260425T125537Z
URL:http://members.saukprairie.com/events/details/cameo-antique-mall-holiday-offers-9745
END:VEVENT

END:VCALENDAR
