BEGIN:VCALENDAR
VERSION:2.0
PRODID:-//ChamberMaster//Event Calendar 2.0//EN
METHOD:PUBLISH
X-PUBLISHED-TTL:P3D
REFRESH-INTERVAL:P3D
CALSCALE:GREGORIAN
BEGIN:VEVENT
DTSTART:20181118T160000Z
DTEND:20181118T230000Z
X-MICROSOFT-CDO-ALLDAYEVENT:FALSE
SUMMARY:Cameo Antique Mall Open House & Fall Sale
DESCRIPTION:Come celebrate the beginning of our 17th year in business and shop our store wide Fall sale!\n\n\n\nGet 15% off everything not marked down or marked Firm and while your here sign up for one of many door prizes and silent auction items that change weekly\, all while enjoying hot cocoa or coffee and homemade treats!
X-ALT-DESC;FMTTYPE=text/html:<span style="color: rgb(29\, 33\, 41)\; font-family: Helvetica\, Arial\, sans-serif\; font-size: 14px\;">Come celebrate the beginning of our 17th year in business and shop our store wide Fall sale!</span><br />\n<br style="color: rgb(29\, 33\, 41)\; font-family: Helvetica\, Arial\, sans-serif\; font-size: 14px\;" />\n<span style="color: rgb(29\, 33\, 41)\; font-family: Helvetica\, Arial\, sans-serif\; font-size: 14px\;">Get 15% off everything not marked down or marked Firm and while your here sign up for one of many door prizes and silent auction items that change weekly\, all while enjoying hot cocoa or coffee and homemade treats!</span>
LOCATION:Cameo Antique Mall 827 Water Street Sauk City\, WI 53583
UID:e.1184.21420
SEQUENCE:3
DTSTAMP:20260424T034104Z
URL:http://members.saukprairie.com/events/details/cameo-antique-mall-open-house-fall-sale-21420
END:VEVENT

END:VCALENDAR
