BEGIN:VCALENDAR
VERSION:2.0
PRODID:-//ChamberMaster//Event Calendar 2.0//EN
METHOD:PUBLISH
X-PUBLISHED-TTL:P3D
REFRESH-INTERVAL:P3D
CALSCALE:GREGORIAN
BEGIN:VEVENT
DTSTART;VALUE=DATE:20181019
DTEND;VALUE=DATE:20181119
TRANSP:TRANSPARENT
X-MICROSOFT-CDO-ALLDAYEVENT:TRUE
SUMMARY:Cameo Antique Mall Open House Sale
DESCRIPTION:Come celebrate the beginning of our 17th year in business and shop our store wide Fall Sale!  Get 15% off everything not marked down or marked firm and while your here\, sign up for one of many door prizes and silent auction items that change weekly.  Enjoy some hot cocoa or coffee and homemade treats!
X-ALT-DESC;FMTTYPE=text/html:Come celebrate the beginning of our 17th year in business and shop our store wide Fall Sale!&nbsp\; Get 15% off everything not marked down or marked firm and while your here\, sign up for one of many door prizes and silent auction items that change weekly.&nbsp\; Enjoy some hot cocoa or coffee and homemade treats!
LOCATION:827 Water Street Sauk City\, WI 53583
UID:e.1184.21418
SEQUENCE:3
DTSTAMP:20260424T022424Z
URL:http://members.saukprairie.com/events/details/cameo-antique-mall-open-house-sale-21418
END:VEVENT

END:VCALENDAR
