BEGIN:VCALENDAR
VERSION:2.0
PRODID:-//ChamberMaster//Event Calendar 2.0//EN
METHOD:PUBLISH
X-PUBLISHED-TTL:P3D
REFRESH-INTERVAL:P3D
CALSCALE:GREGORIAN
BEGIN:VEVENT
DTSTART;VALUE=DATE:20170705
DTEND;VALUE=DATE:20170901
TRANSP:TRANSPARENT
X-MICROSOFT-CDO-ALLDAYEVENT:TRUE
SUMMARY:Cameo Attic Sale
DESCRIPTION:Cameo Antique Mall is running a huge Attic Sale through the month of July through August.  50% off the original price\, plus other discounts!
X-ALT-DESC;FMTTYPE=text/html:<span style="color:#1F497D\;">Cameo Antique Mall is running a huge Attic Sale through the month of July through August.&nbsp\; 50% off the original price\, plus other discounts!</span><br />\n&nbsp\;
LOCATION:827 Water Street Sauk City\, WI 53583
UID:e.1184.11831
SEQUENCE:3
DTSTAMP:20260425T014752Z
URL:http://members.saukprairie.com/events/details/cameo-attic-sale-11831
END:VEVENT

END:VCALENDAR
