BEGIN:VCALENDAR
VERSION:2.0
PRODID:-//ChamberMaster//Event Calendar 2.0//EN
METHOD:PUBLISH
X-PUBLISHED-TTL:P3D
REFRESH-INTERVAL:P3D
CALSCALE:GREGORIAN
BEGIN:VEVENT
DTSTART:20160521T150000Z
DTEND:20160521T200000Z
X-MICROSOFT-CDO-ALLDAYEVENT:FALSE
SUMMARY:Camp GLOW (Giving Loved Ones Wings)
DESCRIPTION:CAMP GLOW is a grief support camp intended for pre-teens & teens ages 10-17 who are dealing with the loss of a loved one. Whether it is the loss of a friend\, parent\, grandparent\, sibling or other loved one\, kids and teens often experience and express grief differently than adults. Camp GLOW is a grief support day camp designed to give children a safe place to share their feelings and concerns through a range of activities focused on helping them deal with their grief. Activities include scrapbooking\, writing letters to their loved one\, and memory boxes that can be stained or painted\, and are meant to hold items of sentimental value to the kids\, remembrances of their loved one. Camp Glow is provided FREE of charge thanks to the support of Home Health United - Visiting Nurse Service Foundation.
X-ALT-DESC;FMTTYPE=text/html:CAMP GLOW is a grief support camp intended for pre-teens &amp\; teens ages 10-17 who are dealing with the loss of a loved one. Whether it is the loss of a friend\, parent\, grandparent\, sibling or other loved one\, kids and teens often experience and express grief differently than adults. Camp GLOW is a grief support day camp designed to give children a safe place to share their feelings and concerns through a range of activities focused on helping them deal with their grief. Activities include scrapbooking\, writing letters to their loved one\, and memory boxes that can be stained or painted\, and are meant to hold items of sentimental value to the kids\, remembrances of their loved one. Camp Glow is provided FREE of charge thanks to the support of Home Health United - Visiting Nurse Service Foundation.
LOCATION:Ochsner Park Pavilion 903 Park Street Baraboo\, Wisconsin 53913
UID:e.1184.8436
SEQUENCE:3
DTSTAMP:20260426T020308Z
URL:http://members.saukprairie.com/events/details/camp-glow-giving-loved-ones-wings-05-21-2016-8436
END:VEVENT

END:VCALENDAR
