BEGIN:VCALENDAR
VERSION:2.0
PRODID:-//ChamberMaster//Event Calendar 2.0//EN
METHOD:PUBLISH
X-PUBLISHED-TTL:P3D
REFRESH-INTERVAL:P3D
CALSCALE:GREGORIAN
BEGIN:VEVENT
DTSTART:20190905T233000Z
DTEND:20190906T030000Z
X-MICROSOFT-CDO-ALLDAYEVENT:FALSE
SUMMARY:"Campfire Kevin" at The Old Schoolhouse! Live Music on the Deck every Thursday! No Cover charge!
DESCRIPTION:Great acoustic tunes from a local artist!\n\n\n\nDrink Specials\, great tap beer selection\, homemade deep dish pizza served until 10pm!\n\n\n\nPacker game on the Big 13FT screen!
X-ALT-DESC;FMTTYPE=text/html:Great acoustic tunes from a local artist!<br />\n<br />\nDrink Specials\, great tap beer selection\, homemade deep dish pizza served until 10pm!<br />\n<br />\nPacker game on the Big 13FT screen!
LOCATION:The Old Schoolhouse E13887 Cty Rd DL Merrimac\, WI 53561
UID:e.1184.23131
SEQUENCE:3
DTSTAMP:20260423T114018Z
URL:http://members.saukprairie.com/events/details/campfire-kevin-at-the-old-schoolhouse-live-music-on-the-deck-every-thursday-no-cover-charge-23131
END:VEVENT

END:VCALENDAR
