BEGIN:VCALENDAR
VERSION:2.0
PRODID:-//ChamberMaster//Event Calendar 2.0//EN
METHOD:PUBLISH
X-PUBLISHED-TTL:P3D
REFRESH-INTERVAL:P3D
CALSCALE:GREGORIAN
BEGIN:VEVENT
DTSTART:20230510T163000Z
DTEND:20230510T180000Z
X-MICROSOFT-CDO-ALLDAYEVENT:FALSE
SUMMARY:CANCELED - Serving Up Knowledge: Setting SMART Goals to Improve Your Career
DESCRIPTION:CANCELED\n\nJoin members as we take a time to learn about various topics that will help grow our business while sharing in conversation over lunch. These sessions are from 11:30   1:00 pm\, and members are encouraged to send as many staff as they would like to these training forums. \n\n\n\nSetting SMART Goals to Improve Your Career\, presented by\, Jeff Wright\, Sauk Prairie School District
X-ALT-DESC;FMTTYPE=text/html:<strong>CANCELED</strong><br />\nJoin members as we take a time to learn about various topics that will help grow our business while sharing in conversation over lunch. These sessions are from 11:30 &ndash\; 1:00 pm\, and members are encouraged to send as many staff as they would like to these training forums.&nbsp\;<br />\n<br />\n<span style="font-size:16px\;"><span style="font-family:calibri\,sans-serif\;">Setting SMART Goals to Improve Your Career\, presented by\, Jeff Wright\, Sauk Prairie School District</span></span><br />\n<br />\n&nbsp\;
LOCATION:Schwarz Insurance 1420 North Ridge Dr. Prairie du Sac
UID:e.1184.29328
SEQUENCE:3
DTSTAMP:20260420T131857Z
URL:http://members.saukprairie.com/events/details/canceled-serving-up-knowledge-setting-smart-goals-to-improve-your-career-29328
END:VEVENT

END:VCALENDAR
