BEGIN:VCALENDAR
VERSION:2.0
PRODID:-//ChamberMaster//Event Calendar 2.0//EN
METHOD:PUBLISH
X-PUBLISHED-TTL:P3D
REFRESH-INTERVAL:P3D
CALSCALE:GREGORIAN
BEGIN:VEVENT
DTSTART:20200722T163000Z
DTEND:20200723T010000Z
X-MICROSOFT-CDO-ALLDAYEVENT:FALSE
SUMMARY:CANCELED - Spring Swing - Lake Wisconsin Country Club 2020
DESCRIPTION:Please Join Us "Fore" a Fun Afternoon of Golf & Networking with the Sauk Prairie Area Chamber of Commerce Members.
X-ALT-DESC;FMTTYPE=text/html:Please Join Us &quot\;Fore&quot\; a Fun Afternoon of Golf &amp\; Networking with the Sauk Prairie Area Chamber of Commerce Members.&nbsp\;<br />\n&nbsp\;
LOCATION:Lake Wisconsin Country Club
UID:e.1184.23713
SEQUENCE:3
DTSTAMP:20260422T195413Z
URL:http://members.saukprairie.com/events/details/canceled-spring-swing-lake-wisconsin-country-club-2020-23713
END:VEVENT

END:VCALENDAR
