BEGIN:VCALENDAR
VERSION:2.0
PRODID:-//ChamberMaster//Event Calendar 2.0//EN
METHOD:PUBLISH
X-PUBLISHED-TTL:P3D
REFRESH-INTERVAL:P3D
CALSCALE:GREGORIAN
BEGIN:VEVENT
DTSTART:20200309T230000Z
DTEND:20200310T003000Z
X-MICROSOFT-CDO-ALLDAYEVENT:FALSE
SUMMARY:Candle Making for Adults
DESCRIPTION:Learn how to make your own mini mason jar candles at the library Monday\, March 9 at 6:00pm.  All supplies will be provided. Open to ages 18 and up. Registration is required and will open February 10. Contact Charlene at 643-8318 with questions. Thank you to the Friends of the Ruth Culver Community Library for sponsoring this event.
X-ALT-DESC;FMTTYPE=text/html:Learn how to make your own mini mason jar candles at the library Monday\, March 9 at 6:00pm.&nbsp\; All supplies will be provided. Open to ages 18 and up. Registration is required and will open February 10. Contact Charlene at 643-8318 with questions. Thank you to the Friends of the Ruth Culver Community Library for sponsoring this event.
LOCATION:Ruth Culver Community Library 540 Water Street\, Prairie du Sac
UID:e.1184.24063
SEQUENCE:3
DTSTAMP:20260423T025036Z
URL:http://members.saukprairie.com/events/details/candle-making-for-adults-24063
END:VEVENT

END:VCALENDAR
