BEGIN:VCALENDAR
VERSION:2.0
PRODID:-//ChamberMaster//Event Calendar 2.0//EN
METHOD:PUBLISH
X-PUBLISHED-TTL:P3D
REFRESH-INTERVAL:P3D
CALSCALE:GREGORIAN
BEGIN:VEVENT
DTSTART:20211204T000000Z
DTEND:20211204T020000Z
X-MICROSOFT-CDO-ALLDAYEVENT:FALSE
SUMMARY:Candlelight Hike
DESCRIPTION:Candlelight Hike Presented by Tracy Thompson Realtor with RE/MAX Grand.\n\n	FREE Family Friendly Event\n	Pets welcome on a leash\n	No bathrooms available\n	Hot Cocoa available for purchase by the Key Club\n\nFor updates and more details visit: https://www.facebook.com/tracythompsonhomes\n\n\n\nA special thanks to Sauk Prairie Recreation and St. Vincent de Paul for helping make the event possible.
X-ALT-DESC;FMTTYPE=text/html:Candlelight Hike Presented by Tracy Thompson Realtor with RE/MAX Grand.\n<ul>\n	<li>FREE Family Friendly Event</li>\n	<li>Pets welcome on a leash</li>\n	<li>No bathrooms available</li>\n	<li>Hot Cocoa available for purchase by the Key Club</li>\n</ul>\nFor updates and more details visit:&nbsp\;<a href="https://www.facebook.com/tracythompsonhomes">https://www.facebook.com/tracythompsonhomes</a><br />\n<br />\nA special thanks to Sauk Prairie Recreation and St. Vincent de Paul for helping make the event possible.
LOCATION:Sauk City Riverfront 236 Water Street\, Sauk City
UID:e.1184.26925
SEQUENCE:3
DTSTAMP:20260421T190327Z
URL:http://members.saukprairie.com/events/details/candlelight-hike-26925
END:VEVENT

END:VCALENDAR
