BEGIN:VCALENDAR
VERSION:2.0
PRODID:-//ChamberMaster//Event Calendar 2.0//EN
METHOD:PUBLISH
X-PUBLISHED-TTL:P3D
REFRESH-INTERVAL:P3D
CALSCALE:GREGORIAN
BEGIN:VEVENT
DTSTART:20221203T000000Z
DTEND:20221203T020000Z
X-MICROSOFT-CDO-ALLDAYEVENT:FALSE
SUMMARY:Candlelight Hike
DESCRIPTION:FREE Candlelight Hike\n\nDecember 2nd from 6p-8pm\n\nLocation: Sauk City Riverfront Park\n\nAddress: 236 Water Street Sauk City WI\n\nSponsored By: Tracy Thompson RE/MAX Grand\n\nJoin us for this special event to kick off the Holly Jolly Weekend. The trails will be lit with candles and the route will meander around the tree lined trails\, take you over wooden foot bridges & will offer up breathtaking views of the Wisconsin River waterway. Be sure to stop by my vintage camper to see her all decorated for the Holidays (decorated and staged by the one and only St. Vincent de Paul Sauk Prairie/Roxbury). The Sauk Prairie High School Key Club will be selling hot chocolate & all of their proceeds will go back to their wonderful organization. PLUS there will also be a special guest appearance from Santa & Mrs. Claus!! The trail/loop is just shy of one mile so if you only want to go half the distance...no problem. You can turn around and go back to the parking lot or you can walk the loop as many times as you'd like & make a full night of it.\n\n\n\nSpecial Thanks to: Sauk Prairie Recreation Department\, Sauk Prairie High School Key Club\, St. Vincent de Paul Sauk Prairie/Roxbury and the Sauk Prairie Area Chamber of Commerce for helping promote and make this event possible.\n\n\n\n***In case of inclement weather\, please go to Tracy Thompson Homes - RE/MAX Grand Business page for updates.***. https://www.facebook.com/tracythompsonhomes\n\nNOTE: The bathrooms at the park are shut down for the season so please plan accordingly.
X-ALT-DESC;FMTTYPE=text/html:<div class="xdj266r x11i5rnm xat24cr x1mh8g0r x1vvkbs" style="margin: 0px\; overflow-wrap: break-word\; font-family: &quot\;Segoe UI Historic&quot\;\, &quot\;Segoe UI&quot\;\, Helvetica\, Arial\, sans-serif\; color: rgb(5\, 5\, 5)\; font-size: 15px\;">FREE Candlelight Hike<br />\nDecember 2nd&nbsp\;from 6p-8pm<br />\nLocation: Sauk City Riverfront Park<br />\nAddress: 236 Water Street Sauk City WI<br />\nSponsored By: Tracy Thompson RE/MAX Grand</div>\n\n<div class="x11i5rnm xat24cr x1mh8g0r x1vvkbs xtlvy1s" style="margin: 0.5em 0px 0px\; overflow-wrap: break-word\; font-family: &quot\;Segoe UI Historic&quot\;\, &quot\;Segoe UI&quot\;\, Helvetica\, Arial\, sans-serif\; color: rgb(5\, 5\, 5)\; font-size: 15px\;">Join us for this special event to kick off the Holly Jolly Weekend. The trails will be lit with candles and the route will meander around the tree lined trails\, take you over wooden foot bridges &amp\; will offer up breathtaking views of the Wisconsin River waterway. Be sure to stop by my vintage camper to see her all decorated for the Holidays (decorated and staged by the one and only St. Vincent de Paul Sauk Prairie/Roxbury). The Sauk Prairie High School Key Club will be selling hot chocolate &amp\; all of their proceeds will go back to their wonderful organization. PLUS there will also be a special guest appearance from Santa &amp\; Mrs. Claus!! The trail/loop is just shy of one mile so if you only want to go half the distance...no problem. You can turn around and go back to the parking lot or you can walk the loop as many times as you&#39\;d like &amp\; make a full night of it.<br />\n<br />\nSpecial Thanks to: Sauk Prairie Recreation Department\, Sauk Prairie High School Key Club\, St. Vincent de Paul Sauk Prairie/Roxbury and the Sauk Prairie Area Chamber of Commerce for helping promote and make this event possible.<br />\n<br />\n***In case of inclement weather\, please go to Tracy Thompson Homes - RE/MAX Grand Business page for updates.***.&nbsp\;<a href="https://www.facebook.com/tracythompsonhomes">https://www.facebook.com/tracythompsonhomes</a><br />\nNOTE: The bathrooms at the park are shut down for the season so please plan accordingly.</div>\n
LOCATION:Sauk City Riverfront 236 Water Street\, Sauk City
UID:e.1184.28776
SEQUENCE:3
DTSTAMP:20260421T003911Z
URL:http://members.saukprairie.com/events/details/candlelight-hike-28776
END:VEVENT

END:VCALENDAR
