BEGIN:VCALENDAR
VERSION:2.0
PRODID:-//ChamberMaster//Event Calendar 2.0//EN
METHOD:PUBLISH
X-PUBLISHED-TTL:P3D
REFRESH-INTERVAL:P3D
CALSCALE:GREGORIAN
BEGIN:VEVENT
DTSTART:20180228T000000Z
DTEND:20180228T014500Z
X-MICROSOFT-CDO-ALLDAYEVENT:FALSE
SUMMARY:Canvases and Cookies
DESCRIPTION:Join us for our first adult and child Canvases & Cookies event Tuesday\, February 27 at 6:00 p.m.  We'll have blank canvases and plenty of paint for you to create your own piece of art\, and cookies for when you need a snack break! Open to children age 8 and older to attend with an adult.  Space is limited\; registration is required.  Contact Meagan at 643-8318 with questions.
X-ALT-DESC;FMTTYPE=text/html:Join us for our first adult and child Canvases &amp\; Cookies event Tuesday\, February 27 at 6:00 p.m.&nbsp\; We&#39\;ll have blank canvases and plenty of paint for you to create your own piece of art\, and cookies for when you need a snack break! Open to children age 8 and older to attend with an adult.&nbsp\; <strong>Space is limited\; registration is required.</strong>&nbsp\; Contact Meagan at 643-8318 with questions.
LOCATION:Ruth Culver Community Library 540 Water Street\, Prairie du Sac
UID:e.1184.14584
SEQUENCE:3
DTSTAMP:20260424T161806Z
URL:http://members.saukprairie.com/events/details/canvases-and-cookies-14584
END:VEVENT

END:VCALENDAR
