BEGIN:VCALENDAR
VERSION:2.0
PRODID:-//ChamberMaster//Event Calendar 2.0//EN
METHOD:PUBLISH
X-PUBLISHED-TTL:P3D
REFRESH-INTERVAL:P3D
CALSCALE:GREGORIAN
BEGIN:VEVENT
DTSTART:20220316T230000Z
DTEND:20220317T003000Z
X-MICROSOFT-CDO-ALLDAYEVENT:FALSE
SUMMARY:Card Crafting Buffet
DESCRIPTION:Jamie Statz Painter will lead a card-crafting buffet at the library. Create one-of-a-kind greetings for Mother's Day\, Father's Day\, springtime\, or any occasion! Make up to four cards. All materials are included. Registration is required as seats are limited. Call 608-643-8346 or visit the library to register. Masks are required to attend.
X-ALT-DESC;FMTTYPE=text/html:Jamie Statz Painter will lead a card-crafting buffet at the library. Create one-of-a-kind greetings for Mother&rsquo\;s Day\, Father&rsquo\;s Day\, springtime\, or any occasion! Make up to four cards. All materials are included. Registration is required as seats are limited. Call 608-643-8346 or visit the library to register. Masks are required to attend.
LOCATION:615 Phillips Blvd. Sauk City\, WI 53583
UID:e.1184.27144
SEQUENCE:3
DTSTAMP:20260421T160200Z
URL:http://members.saukprairie.com/events/details/card-making-buffet-27144
END:VEVENT

END:VCALENDAR
