BEGIN:VCALENDAR
VERSION:2.0
PRODID:-//ChamberMaster//Event Calendar 2.0//EN
METHOD:PUBLISH
X-PUBLISHED-TTL:P3D
REFRESH-INTERVAL:P3D
CALSCALE:GREGORIAN
BEGIN:VEVENT
DTSTART:20170111T203000Z
DTEND:20170111T213000Z
X-MICROSOFT-CDO-ALLDAYEVENT:FALSE
SUMMARY:Caricature Art for Kids
DESCRIPTION:Meet Kim & Tami from Funny Faces Family Entertainment! They will draw a couple caricatures for you. Can you guess who it is? Then it will be turned over to the kids and they will be instructed on how to draw caricatures! What a fun winter early release activity! This program is appropriate for children aged 5 & older. Contact Beth at 643-8318 with questions.
X-ALT-DESC;FMTTYPE=text/html:Meet Kim &amp\; Tami from Funny Faces Family Entertainment! They will draw a couple caricatures for you. Can you guess who it is? Then it will be turned over to the kids and they will be instructed on how to draw caricatures! What a fun winter early release activity! This program is appropriate for children aged 5 &amp\; older. Contact Beth at 643-8318 with questions.
LOCATION:Ruth Culver Community Library 540 Water Street Prairie du Sac
UID:e.1184.9835
SEQUENCE:3
DTSTAMP:20260425T124642Z
URL:http://members.saukprairie.com/events/details/caricature-art-for-kids-9835
END:VEVENT

END:VCALENDAR
