BEGIN:VCALENDAR
VERSION:2.0
PRODID:-//ChamberMaster//Event Calendar 2.0//EN
METHOD:PUBLISH
X-PUBLISHED-TTL:P3D
REFRESH-INTERVAL:P3D
CALSCALE:GREGORIAN
BEGIN:VEVENT
DTSTART:20160821T180000Z
DTEND:20160821T210000Z
X-MICROSOFT-CDO-ALLDAYEVENT:FALSE
SUMMARY:Carriage Rides & Building Tours
DESCRIPTION:Complimentary Carriage Rides and Building Tours through Sauk City Historic Neighborhoods\n\n\n\nSoon to be Famous Lodi Band will be there as well!\n\n\n\nSunday\, August 21\, 2016\n\n1:00pm-4:00pm\n\n\n\nMeet at Historic Park Hall\n\n307 Polk Street\, Sauk City\n\n\n\nSponsored by the Sauk City Historical Preservation Committee & Dire Freie Gemeinde (free Congregation of Sauk County) at Park Hall
X-ALT-DESC;FMTTYPE=text/html:Complimentary Carriage Rides and Building Tours through Sauk City Historic Neighborhoods<br />\n<br />\nSoon to be Famous Lodi Band will be there as well!<br />\n<br />\nSunday\, August 21\, 2016<br />\n1:00pm-4:00pm<br />\n<br />\nMeet at Historic Park Hall<br />\n307 Polk Street\, Sauk City<br />\n<br />\nSponsored by the Sauk City Historical Preservation Committee &amp\; Dire Freie Gemeinde (free Congregation of Sauk County) at Park Hall
LOCATION:
UID:e.1184.8600
SEQUENCE:3
DTSTAMP:20260425T210024Z
URL:http://members.saukprairie.com/events/details/carriage-rides-building-tours-08-21-2016-8600
END:VEVENT

END:VCALENDAR
