BEGIN:VCALENDAR
VERSION:2.0
PRODID:-//ChamberMaster//Event Calendar 2.0//EN
METHOD:PUBLISH
X-PUBLISHED-TTL:P3D
REFRESH-INTERVAL:P3D
CALSCALE:GREGORIAN
BEGIN:VEVENT
DTSTART;VALUE=DATE:20190518
DTEND;VALUE=DATE:20190519
TRANSP:TRANSPARENT
X-MICROSOFT-CDO-ALLDAYEVENT:TRUE
SUMMARY:Cattle Drive 5K/10K Fun Run/Walk
DESCRIPTION:May is Beef Month! In celebration of an entire month dedicated to hard-working beef farmers and loyal beef eaters\, the Wisconsin Beef Council will be hosting a 5K/10K fun run/walk.\n\nThe "Moove" it on the Cattle Drive 5K/10K Fun Run/Walk will be held on May 18\, 2019 on the Great Sauk State Trail in Prairie du Sac\, WI. Participants will complete the "there and back" flat and paved course along the scenic Wisconsin River.\n\nParticipants will receive a free t-shirt\, be entered to win a drawing of beef gift certificates and will be invited to Veteran's Memorial Park located on Hwy. 78 for a beef sandwich lunch and beverages after the race.\n\nRegistration for the event is $30 and same-day registration will be $35. All proceeds will be donated to the Sauk Prairie Area Food Pantry to help those in need.\n\nTo register for the event\, visit https://www.beeftips.com/nutrition/team-beef.
X-ALT-DESC;FMTTYPE=text/html:<p class="speakable-p-1 p-text" style="margin: 0px 0px 15px 60px\; font-variant-numeric: normal\; font-variant-east-asian: normal\; font-stretch: normal\; font-size: 14px\; line-height: 22px\; font-family: arial\, sans-serif\; background-color: rgb(250\, 250\, 250)\;">May is Beef Month! In celebration of an entire month dedicated to hard-working beef farmers and loyal beef eaters\, the Wisconsin Beef Council will be hosting a 5K/10K fun run/walk.</p>\n\n<p class="speakable-p-2 p-text" style="margin: 0px 0px 15px 60px\; font-variant-numeric: normal\; font-variant-east-asian: normal\; font-stretch: normal\; font-size: 14px\; line-height: 22px\; font-family: arial\, sans-serif\; background-color: rgb(250\, 250\, 250)\;">The &ldquo\;Moove&rdquo\; it on the Cattle Drive 5K/10K Fun Run/Walk will be held on May 18\, 2019 on the Great Sauk State Trail in Prairie du Sac\, WI. Participants will complete the &ldquo\;there and back&rdquo\; flat and paved course along the scenic Wisconsin River.</p>\n\n<p class="p-text" style="margin: 0px 0px 15px 60px\; font-variant-numeric: normal\; font-variant-east-asian: normal\; font-stretch: normal\; font-size: 14px\; line-height: 22px\; font-family: arial\, sans-serif\; background-color: rgb(250\, 250\, 250)\;">Participants will receive a free t-shirt\, be entered to win a drawing of beef gift certificates and will be invited to Veteran&rsquo\;s Memorial Park located on Hwy. 78 for a beef sandwich lunch and beverages after the race.</p>\n\n<p class="p-text" style="margin: 0px 0px 15px 60px\; font-variant-numeric: normal\; font-variant-east-asian: normal\; font-stretch: normal\; font-size: 14px\; line-height: 22px\; font-family: arial\, sans-serif\; background-color: rgb(250\, 250\, 250)\;">Registration for the event is $30&nbsp\;and same-day registration will be $35. All proceeds will be donated to the Sauk Prairie Area Food Pantry to help those in need.</p>\n\n<p class="p-text" style="margin: 0px 0px 15px 60px\; font-variant-numeric: normal\; font-variant-east-asian: normal\; font-stretch: normal\; font-size: 14px\; line-height: 22px\; font-family: arial\, sans-serif\; background-color: rgb(250\, 250\, 250)\;">To register for the event\, visit&nbsp\;https://www.beeftips.com/nutrition/team-beef.</p>\n
LOCATION:
UID:e.1184.22217
SEQUENCE:3
DTSTAMP:20260423T171512Z
URL:http://members.saukprairie.com/events/details/cattle-drive-5k-10k-fun-run-walk-22217
END:VEVENT

END:VCALENDAR
