BEGIN:VCALENDAR
VERSION:2.0
PRODID:-//ChamberMaster//Event Calendar 2.0//EN
METHOD:PUBLISH
X-PUBLISHED-TTL:P3D
REFRESH-INTERVAL:P3D
CALSCALE:GREGORIAN
BEGIN:VEVENT
DTSTART:20171011T190000Z
DTEND:20171011T200000Z
X-MICROSOFT-CDO-ALLDAYEVENT:FALSE
SUMMARY:CCC Boys of Devil's Lake State Park
DESCRIPTION:Upper Peninsula based author/songwriter Bill Jamerson will present a music and storytelling program about the Civilian Conservation Corps. The program is free and refreshments will be served.  \n\n\n\nJamerson will share stories about the CCC\, read excerpts from his novel\, and sing original songs with his guitar.  He's performed at CCC reunions around the country and at dozens of CCC built national and state parks. His presentation is as entertaining as it is important\; as honest as it is fun. It's about people both ordinary and extraordinary\, with stories of strength\, wit and charm. \n\n\n\n---\n\n\n\nIf you are in need of accommodations\, the library would like to help! Please contact us at 608-643-8346 as soon as possible with the assistance you will need. The basement is accessible via a ramp by our rear parking lot. This door will be unlocked at least 10 minutes before the program begins.
X-ALT-DESC;FMTTYPE=text/html:<span style="color:black\; font-family:georgia\,times new roman\,bitstream charter\,times\,serif\; font-size:16px">Upper Peninsula based author/songwriter Bill Jamerson will present a music and storytelling program about the Civilian Conservation Corps. The program is free and refreshments will be served.&nbsp\;&nbsp\;</span><br />\n<br />\n<span style="color:black\; font-family:georgia\,times new roman\,bitstream charter\,times\,serif\; font-size:16px">Jamerson will share stories about the CCC\, read excerpts from his novel\, and sing original songs with his guitar.&nbsp\; He&#39\;s performed at CCC reunions around the country and at dozens of&nbsp\;CCC built national and state parks. His presentation is as entertaining as it is important\; as honest as it is fun. It&#39\;s about people both ordinary and extraordinary\, with stories of strength\, wit and charm.&nbsp\;<br />\n<br />\n---</span><br />\n<br />\n<span style="font-family:georgia\,times new roman\,bitstream charter\,times\,serif\; font-size:16px">If you are in need of accommodations\, the library would like to help! Please contact us at 608-643-8346 as soon as possible with the assistance you will need. The basement is accessible via a ramp by our rear parking lot. This door will be unlocked at least 10 minutes before the program begins.</span>
LOCATION:515 Water Street Sauk City\, WI 53583 (608) 643-8346
UID:e.1184.12940
SEQUENCE:3
DTSTAMP:20260424T222046Z
URL:http://members.saukprairie.com/events/details/ccc-boys-of-devil-s-lake-state-park-12940
END:VEVENT

END:VCALENDAR
