BEGIN:VCALENDAR
VERSION:2.0
PRODID:-//ChamberMaster//Event Calendar 2.0//EN
METHOD:PUBLISH
X-PUBLISHED-TTL:P3D
REFRESH-INTERVAL:P3D
CALSCALE:GREGORIAN
BEGIN:VEVENT
DTSTART:20180414T200000Z
DTEND:20180415T010000Z
X-MICROSOFT-CDO-ALLDAYEVENT:FALSE
SUMMARY:Cedar Valley Preserve Open House
DESCRIPTION:DOORS OPEN AT 3PM\n\nFOOD STARTS AT 4PM\n\n \n\n$5O/PERSON ALL YOU CAN EAT\n\nRIBS\, BRISKET\, JUMBOLIA\, CHEESE POTATOES\n\nAND DRINK (beer and pop)\n\ncash bar for mix drinks\n\n\n\nCedar Valley Raffle will start when doors open\n\nraffle tickets will be drawn around 7pm\n\n \n\nPrizes include: Guns\, cameras\, optics\, guided\n\nhunts and fishing trips\, bird package\, and more.
X-ALT-DESC;FMTTYPE=text/html:DOORS OPEN AT 3PM<br />\nFOOD STARTS AT 4PM<br />\n&#8203\;<br />\n$5O/PERSON ALL YOU CAN EAT<br />\nRIBS\, BRISKET\, JUMBOLIA\, CHEESE POTATOES<br />\nAND DRINK (beer and pop)<br />\ncash bar for mix drinks<br />\n<br />\nCedar Valley Raffle will start when doors open<br />\nraffle tickets will be drawn around 7pm<br />\n&#8203\;<br />\nPrizes include: Guns\, cameras\, optics\, guided<br />\nhunts and fishing trips\, bird package\, and more.
LOCATION:3731 DOLAN ROAD\, SPRING GREEN\, WI
UID:e.1184.18049
SEQUENCE:3
DTSTAMP:20260424T143800Z
URL:http://members.saukprairie.com/events/details/cedar-valley-preserve-open-house-18049
END:VEVENT

END:VCALENDAR
