BEGIN:VCALENDAR
VERSION:2.0
PRODID:-//ChamberMaster//Event Calendar 2.0//EN
METHOD:PUBLISH
X-PUBLISHED-TTL:P3D
REFRESH-INTERVAL:P3D
CALSCALE:GREGORIAN
BEGIN:VEVENT
DTSTART:20230608T232500Z
DTEND:20230609T013000Z
X-MICROSOFT-CDO-ALLDAYEVENT:FALSE
SUMMARY:Celebrate Recovery
DESCRIPTION:Celebrate Recovery is a 12 step recovery group aimed at helping those who are struggling with drug/alcohol addictions\, Anxiety\, depression\, and other things that prevent us from living a wonderful life. A night at celebrate Recovery includes learning to live free of your hurts and pains\, sharing with those who are like you\, a time of singing and rejoicing each other's victories\, and allowing God to produce lasting change within us.
X-ALT-DESC;FMTTYPE=text/html:Celebrate Recovery is a 12 step recovery group aimed at helping those who are struggling with drug/alcohol addictions\, Anxiety\, depression\, and other things that prevent us from living a wonderful life. A night at celebrate Recovery includes learning to live free of your hurts and pains\, sharing with those who are like you\, a time of singing and rejoicing each other&#39\;s victories\, and allowing God to produce lasting change within us.
LOCATION:Grace Way Church 65 13th St. Prairie du Sac
UID:e.1184.28296
SEQUENCE:3
DTSTAMP:20260420T120010Z
URL:http://members.saukprairie.com/events/details/celebrate-recovery-06-08-2023-28296
END:VEVENT

END:VCALENDAR
