BEGIN:VCALENDAR
VERSION:2.0
PRODID:-//ChamberMaster//Event Calendar 2.0//EN
METHOD:PUBLISH
X-PUBLISHED-TTL:P3D
REFRESH-INTERVAL:P3D
CALSCALE:GREGORIAN
BEGIN:VEVENT
DTSTART:20161017T233000Z
DTEND:20161018T010000Z
X-MICROSOFT-CDO-ALLDAYEVENT:FALSE
SUMMARY:Chad Lewis presents "Wisconsin's Most Haunted Locations"
DESCRIPTION:Chad Lewis will take you on a ghostly journey to some of the most haunted places in Wisconsin. From phantom creatures prowling the woods to graveyard apparitions located in your own backyard\, no place is without its own haunting. Complete with photos\, case history\, eyewitness accounts\, ghost lore\, and directions\, this unique presentation encourages you to visit these places for your own ghost story. This event is sponsored by the Friends of the Ruth Culver Community Library.
X-ALT-DESC;FMTTYPE=text/html:Chad Lewis will take you on a ghostly journey to some of the most haunted places in Wisconsin. From phantom creatures prowling the woods to graveyard apparitions located in your own backyard\, no place is without its own haunting. Complete with photos\, case history\, eyewitness accounts\, ghost lore\, and directions\, this unique presentation encourages you to visit these places for your own ghost story. This event is sponsored by the Friends of the Ruth Culver Community Library.
LOCATION:Ruth Culver Community Library 540 Water Street Prairie du Sac
UID:e.1184.6916
SEQUENCE:3
DTSTAMP:20260425T174047Z
URL:http://members.saukprairie.com/events/details/chad-lewis-presents-wisconsin-s-most-haunted-locations-10-17-2016-6916
END:VEVENT

END:VCALENDAR
