BEGIN:VCALENDAR
VERSION:2.0
PRODID:-//ChamberMaster//Event Calendar 2.0//EN
METHOD:PUBLISH
X-PUBLISHED-TTL:P3D
REFRESH-INTERVAL:P3D
CALSCALE:GREGORIAN
BEGIN:VEVENT
DTSTART:20240216T230000Z
DTEND:20240217T050000Z
X-MICROSOFT-CDO-ALLDAYEVENT:FALSE
SUMMARY:Chamber Bowl 2024
DESCRIPTION:Teams of 4\, (3 games)\n\nPartner 1 rolls 1st ball\, partner 2 rolls 2nd ball (2 groups of 2 per lane)\n\n2nd game people reverse roles\n\n3rd game either combination   \n\n\n\nPrizes:  Championship Team hosts the Traveling Trophy for the next year!\n\nThe lowest score from the night hosts the ball and chain for the next year!\n\nDisplay with pride!!!!\n\n\n\nClick here to sign your team up!
X-ALT-DESC;FMTTYPE=text/html:Teams of 4\, (3 games)<br />\nPartner 1 rolls 1st ball\, partner 2 rolls 2nd ball (2 groups of 2 per lane)<br />\n2nd game people reverse roles<br />\n3rd game either combination&nbsp\;&nbsp\;&nbsp\;<br />\n<br />\nPrizes:&nbsp\; Championship Team hosts the Traveling Trophy for the next year!<br />\nThe lowest score from the night hosts the ball and chain for the next year!<br />\nDisplay with pride!!!!<br />\n<br />\n<a href="https://chambermaster.blob.core.windows.net/userfiles/UserFiles/chambers/1184/File/BowlingPosterForm.pdf">Click here to sign your team up!</a><br />\n&nbsp\;
LOCATION:Riviera Bowl
UID:e.1184.31371
SEQUENCE:3
DTSTAMP:20260420T020110Z
URL:http://members.saukprairie.com/events/details/chamber-bowl-2024-31371
END:VEVENT

END:VCALENDAR
