BEGIN:VCALENDAR
VERSION:2.0
PRODID:-//ChamberMaster//Event Calendar 2.0//EN
METHOD:PUBLISH
X-PUBLISHED-TTL:P3D
REFRESH-INTERVAL:P3D
CALSCALE:GREGORIAN
BEGIN:VEVENT
DTSTART:20210316T150000Z
DTEND:20210316T160000Z
X-MICROSOFT-CDO-ALLDAYEVENT:FALSE
SUMMARY:Chamber Chat with Tywana German
DESCRIPTION:Join us on Wednesday\, March 16th from 10-11am with Chamber Chat with Tywana German. No agenda\, just listening to your needs!
X-ALT-DESC;FMTTYPE=text/html:Join us on Wednesday\, March 16th from 10-11am with Chamber Chat with Tywana German. No agenda\, just listening to your needs!<br />\n<br />\n&nbsp\;
LOCATION:Meeting ID meet.google.com/bbk-jaej-vwp Phone Numbers ( US ) +1 501-737-0158 PIN: 560 704 897#
UID:e.1184.26424
SEQUENCE:3
DTSTAMP:20260422T091009Z
URL:http://members.saukprairie.com/events/details/chamber-chat-with-tywana-german-03-16-2021-26424
END:VEVENT

END:VCALENDAR
