BEGIN:VCALENDAR
VERSION:2.0
PRODID:-//ChamberMaster//Event Calendar 2.0//EN
METHOD:PUBLISH
X-PUBLISHED-TTL:P3D
REFRESH-INTERVAL:P3D
CALSCALE:GREGORIAN
BEGIN:VEVENT
DTSTART:20200422T183000Z
DTEND:20200422T193000Z
X-MICROSOFT-CDO-ALLDAYEVENT:FALSE
SUMMARY:Chamber Connect
DESCRIPTION:Bring your questions and/or best practices to share with other members about your successes and/or challenges due to COVID-19.\n\n\n\nPresented by Stuart B. Fields & Workplace Elevation\, LLC
X-ALT-DESC;FMTTYPE=text/html:<div>Bring your questions and/or best practices to share with other members about your successes and/or challenges due to COVID-19.<br />\n<br />\nPresented by Stuart B. Fields &amp\; Workplace Elevation\, LLC</div>\n
LOCATION:Join Zoom Meeting https://zoom.us/j/6086449999 Meeting ID: 608 644 9999
UID:e.1184.24366
SEQUENCE:3
DTSTAMP:20260423T011812Z
URL:http://members.saukprairie.com/events/details/chamber-connect-24366
END:VEVENT

END:VCALENDAR
