BEGIN:VCALENDAR
VERSION:2.0
PRODID:-//ChamberMaster//Event Calendar 2.0//EN
METHOD:PUBLISH
X-PUBLISHED-TTL:P3D
REFRESH-INTERVAL:P3D
CALSCALE:GREGORIAN
BEGIN:VEVENT
DTSTART:20220125T200000Z
DTEND:20220125T203000Z
X-MICROSOFT-CDO-ALLDAYEVENT:FALSE
SUMMARY:Chamber Connect: A Little Less Talk\, and More Modeling!
DESCRIPTION:Join us virtually to connect with local leaders on a variety of topics that will grow us personally and professionally. These podcast-style sessions are 30 minutes\, with 15 minutes of training being provided\, followed by Q&A. \n\n\n\nTopic: A Little Less Talk\, and More Modeling! A 3 Part series in 2022 on Empathy. Presented by Jeff Wright and Tywana German.
X-ALT-DESC;FMTTYPE=text/html:Join us virtually to connect with local leaders on a variety of topics that will grow us personally and professionally. These podcast-style sessions are 30 minutes\, with 15 minutes of training being provided\, followed by Q&amp\;A.&nbsp\;<br />\n<br />\nTopic: A Little Less Talk\, and More Modeling! A 3 Part series in 2022 on Empathy. Presented by Jeff Wright and Tywana German.
LOCATION:Meeting ID meet.google.com/mwu-ffpu-axr Phone Numbers ( US ) +1 401-379-2212 PIN: 340 424 724#
UID:e.1184.26981
SEQUENCE:3
DTSTAMP:20260421T190425Z
URL:http://members.saukprairie.com/events/details/chamber-connect-a-little-less-talk-and-more-modeling-26981
END:VEVENT

END:VCALENDAR
