BEGIN:VCALENDAR
VERSION:2.0
PRODID:-//ChamberMaster//Event Calendar 2.0//EN
METHOD:PUBLISH
X-PUBLISHED-TTL:P3D
REFRESH-INTERVAL:P3D
CALSCALE:GREGORIAN
BEGIN:VEVENT
DTSTART:20220208T200000Z
DTEND:20220208T203000Z
X-MICROSOFT-CDO-ALLDAYEVENT:FALSE
SUMMARY:Chamber Connect: Are you feeling stuck\, depressed\, or unmotivated after the holidays?
DESCRIPTION:Join us virtually to connect with local leaders on a variety of topics that will grow us personally and professionally. These podcast-style sessions are 30 minutes\, with 15 minutes of training being provided\, followed by Q&A. \n\n\n\nTopic: Are you feeling stuck\, depressed\, or unmotivated after the holidays? Well\, according to our guest Michelle Vande Hey\, Motivated is Overrated!
X-ALT-DESC;FMTTYPE=text/html:Join us virtually to connect with local leaders on a variety of topics that will grow us personally and professionally. These podcast-style sessions are 30 minutes\, with 15 minutes of training being provided\, followed by Q&amp\;A.&nbsp\;<br />\n<br />\nTopic: <span style="font-family:calibri\,sans-serif\;"><span style="font-size:11.0pt\;">Are you feeling stuck\, depressed\, or unmotivated after the holidays? Well\, according to our guest Michelle Vande Hey\, Motivated is Overrated!&nbsp\;</span></span>
LOCATION:Meeting ID meet.google.com/sqm-jgbu-ezx Phone Numbers ( US ) +1 336-914-1134 PIN: 509 139 089#
UID:e.1184.26982
SEQUENCE:3
DTSTAMP:20260421T173526Z
URL:http://members.saukprairie.com/events/details/chamber-connect-are-you-feeling-stuck-depressed-or-unmotivated-after-the-holidays-26982
END:VEVENT

END:VCALENDAR
