BEGIN:VCALENDAR
VERSION:2.0
PRODID:-//ChamberMaster//Event Calendar 2.0//EN
METHOD:PUBLISH
X-PUBLISHED-TTL:P3D
REFRESH-INTERVAL:P3D
CALSCALE:GREGORIAN
BEGIN:VEVENT
DTSTART:20230411T190000Z
DTEND:20230411T193000Z
X-MICROSOFT-CDO-ALLDAYEVENT:FALSE
SUMMARY:Chamber Connect: De-escalate Angry Customers!
DESCRIPTION:Join us virtually to connect with local leaders on a variety of topics that will grow us personally and professionally. These podcast-style sessions are 30 minutes\, with 15 minutes of training being provided\, followed by Q&A. \n\n\n\nTopic: De-escalate Angry Customers! Presented by\, Chief Josh Sherman\, Sauk Prairie Police Department
X-ALT-DESC;FMTTYPE=text/html:Join us virtually to connect with local leaders on a variety of topics that will grow us personally and professionally. These podcast-style sessions are 30 minutes\, with 15 minutes of training being provided\, followed by Q&amp\;A.&nbsp\;<br />\n<br />\n<span style="color:#000000\;"><span style="font-size:16px\;">Topic:&nbsp\;De-escalate Angry Customers! Presented by\, Chief Josh Sherman\, Sauk Prairie Police Department</span></span>
LOCATION:Virtual Video call link: https://meet.google.com/jpg-ykzh-azt Or dial: (US) +1 319-449-0122 PIN: 737 063 649 #
UID:e.1184.29329
SEQUENCE:3
DTSTAMP:20260420T153822Z
URL:http://members.saukprairie.com/events/details/chamber-connect-de-escalate-angry-customers-29329
END:VEVENT

END:VCALENDAR
