BEGIN:VCALENDAR
VERSION:2.0
PRODID:-//ChamberMaster//Event Calendar 2.0//EN
METHOD:PUBLISH
X-PUBLISHED-TTL:P3D
REFRESH-INTERVAL:P3D
CALSCALE:GREGORIAN
BEGIN:VEVENT
DTSTART:20220510T190000Z
DTEND:20220510T193000Z
X-MICROSOFT-CDO-ALLDAYEVENT:FALSE
SUMMARY:Chamber Connect: How empathy can help you retain & recruit employees!
DESCRIPTION:Join us virtually to connect with local leaders on a variety of topics that will grow us personally and professionally. These podcast-style sessions are 30 minutes\, with 15 minutes of training being provided\, followed by Q&A. \n\n\n\nTopic: How empathy can help you retain & recruit employees!
X-ALT-DESC;FMTTYPE=text/html:Join us virtually to connect with local leaders on a variety of topics that will grow us personally and professionally. These podcast-style sessions are 30 minutes\, with 15 minutes of training being provided\, followed by Q&amp\;A.&nbsp\;<br />\n<br />\nTopic: <span style="font-family:calibri\,sans-serif\;"><span style="font-size:11.0pt\;">How empathy can help you retain &amp\; recruit employees!&nbsp\;</span></span>&nbsp\;
LOCATION:Meeting ID meet.google.com/web-fbpa-pqo Phone Numbers ( US ) +1 405-939-0103 PIN: 729 359 070#
UID:e.1184.26984
SEQUENCE:3
DTSTAMP:20260421T133523Z
URL:http://members.saukprairie.com/events/details/chamber-connect-how-empathy-can-help-you-retain-recruit-employees-26984
END:VEVENT

END:VCALENDAR
