BEGIN:VCALENDAR
VERSION:2.0
PRODID:-//ChamberMaster//Event Calendar 2.0//EN
METHOD:PUBLISH
X-PUBLISHED-TTL:P3D
REFRESH-INTERVAL:P3D
CALSCALE:GREGORIAN
BEGIN:VEVENT
DTSTART:20221209T200000Z
DTEND:20221209T203000Z
X-MICROSOFT-CDO-ALLDAYEVENT:FALSE
SUMMARY:Chamber Connect: Working in Short Staffed Environments
DESCRIPTION:Join us virtually to connect with local leaders on a variety of topics that will grow us personally and professionally. These podcast-style sessions are 30 minutes\, with 15 minutes of training being provided\, followed by Q&A. \n\n\n\nTopic: Working in Short Staffed Environments\, presented\n\nBy Austin Lins w/MBE Wealth
X-ALT-DESC;FMTTYPE=text/html:Join us virtually to connect with local leaders on a variety of topics that will grow us personally and professionally. These podcast-style sessions are 30 minutes\, with 15 minutes of training being provided\, followed by Q&amp\;A.&nbsp\;<br />\n<br />\n<span style="font-size:16px\;"><span style="color:#000000\;">Topic:&nbsp\;Working in Short Staffed Environments\, presented<br />\nBy Austin Lins w/MBE Wealth</span></span>
LOCATION:Google Meet joining info Video call link: https://meet.google.com/bxd-owed-ibw Or dial: (US) +1 650-285-3097 PIN: 561 478 439 #
UID:e.1184.29331
SEQUENCE:3
DTSTAMP:20260421T003925Z
URL:http://members.saukprairie.com/events/details/chamber-connect-working-in-short-staffed-environments-29331
END:VEVENT

END:VCALENDAR
