BEGIN:VCALENDAR
VERSION:2.0
PRODID:-//ChamberMaster//Event Calendar 2.0//EN
METHOD:PUBLISH
X-PUBLISHED-TTL:P3D
REFRESH-INTERVAL:P3D
CALSCALE:GREGORIAN
BEGIN:VEVENT
DTSTART:20200131T230000Z
DTEND:20200201T050000Z
X-MICROSOFT-CDO-ALLDAYEVENT:FALSE
SUMMARY:Chamber "Super" Bowl 2020
DESCRIPTION:Teams of 4\, (3 games)\n\nPartner 1 rolls 1st ball\, partner 2 rolls 2nd ball (2 groups of 2 per lane)\n\n2nd game people reverse roles\n\n3rd game either combination   \n\n(Click here for the form)\n\n\n\nPrizes:  Championship Team hosts the Traveling Trophy for the next year!\n\nLowest score from the nights  hosts the ball and chain for the next year!\n\nDisplay with pride!!!!
X-ALT-DESC;FMTTYPE=text/html:Teams of 4\, (3 games)<br />\nPartner 1 rolls 1st ball\, partner 2 rolls 2nd ball (2 groups of 2 per lane)<br />\n2nd game people reverse roles<br />\n3rd game either combination&nbsp\;&nbsp\;&nbsp\;<br />\n<a href="https://chambermaster.blob.core.windows.net/userfiles/UserFiles/chambers/1184/File/Form.pdf">(Click here for the form)</a><br />\n<br />\nPrizes:&nbsp\; Championship Team hosts the Traveling Trophy for the next year!<br />\nLowest score from the nights&nbsp\; hosts the ball and chain for the next year!<br />\nDisplay with pride!!!!
LOCATION:Riviera Bowl
UID:e.1184.23641
SEQUENCE:3
DTSTAMP:20260423T053731Z
URL:http://members.saukprairie.com/events/details/chamber-super-bowl-2020-23641
END:VEVENT

END:VCALENDAR
