BEGIN:VCALENDAR
VERSION:2.0
PRODID:-//ChamberMaster//Event Calendar 2.0//EN
METHOD:PUBLISH
X-PUBLISHED-TTL:P3D
REFRESH-INTERVAL:P3D
CALSCALE:GREGORIAN
BEGIN:VEVENT
DTSTART:20210429T220000Z
DTEND:20210430T000000Z
X-MICROSOFT-CDO-ALLDAYEVENT:FALSE
SUMMARY:Chamber "Super" Bowl 2021 PLAYOFFS!
DESCRIPTION:Top 2 Teams from each date advanced to the Play-Offs on April 29th!\n\n\n\nTeams of 4\, (3 games)\n\nPartner 1 rolls 1st ball\, partner 2 rolls 2nd ball (2 groups of 2 per lane)\n\n2nd game people reverse roles\n\n3rd game either combination   \n\n\n\nPrizes:  Championship Team hosts the Traveling Trophy for the next year!\n\nThe lowest score from the nights hosts the ball and chain for the next year!\n\nDisplay with pride!!!!
X-ALT-DESC;FMTTYPE=text/html:Top 2 Teams from each date advanced to the Play-Offs on April 29th!<br />\n<br />\nTeams of 4\, (3 games)<br />\nPartner 1 rolls 1st ball\, partner 2 rolls 2nd ball (2 groups of 2 per lane)<br />\n2nd game people reverse roles<br />\n3rd game either combination&nbsp\;&nbsp\;&nbsp\;<br />\n<br />\nPrizes:&nbsp\; Championship Team hosts the Traveling Trophy for the next year!<br />\nThe lowest score from the nights hosts the ball and chain for the next year!<br />\nDisplay with pride!!!!
LOCATION:Riviera Bowl
UID:e.1184.26469
SEQUENCE:3
DTSTAMP:20260422T063641Z
URL:http://members.saukprairie.com/events/details/chamber-super-bowl-2021-playoffs-26469
END:VEVENT

END:VCALENDAR
