BEGIN:VCALENDAR
VERSION:2.0
PRODID:-//ChamberMaster//Event Calendar 2.0//EN
METHOD:PUBLISH
X-PUBLISHED-TTL:P3D
REFRESH-INTERVAL:P3D
CALSCALE:GREGORIAN
BEGIN:VEVENT
DTSTART:20180515T223000Z
DTEND:20180516T003000Z
X-MICROSOFT-CDO-ALLDAYEVENT:FALSE
SUMMARY:"Cheeseheads" Documentary Screening
DESCRIPTION:Filmmaker and writer John Mitchell will join us for a screening of his documentary Cheeseheads at the Ruth Culver Community Library Tuesday\, May 15 at 5:30 p.m.  This film is a love letter to Wisconsin and the Midwest\, a humorous and informative travel movie. The screening will be followed by a Q&A with the filmmaker. Light snacks and refreshments will be provided.  Thank you to the Friends of the Ruth Culver Community Library for sponsoring this event. Contact Meagan at 643-8318 with questions.
X-ALT-DESC;FMTTYPE=text/html:Filmmaker and writer John Mitchell will join us for a screening of his documentary <em>Cheeseheads</em> at the Ruth Culver Community Library Tuesday\, May 15 at 5:30 p.m.&nbsp\; This film is a love letter to Wisconsin and the Midwest\, a humorous and informative travel movie. The screening will be followed by a Q&amp\;A with the filmmaker. Light snacks and refreshments will be provided.&nbsp\; Thank you to the Friends of the Ruth Culver Community Library for sponsoring this event. Contact Meagan at 643-8318 with questions.
LOCATION:Ruth Culver Community Library 540 Water Street Prairie du Sac
UID:e.1184.14690
SEQUENCE:3
DTSTAMP:20260424T111907Z
URL:http://members.saukprairie.com/events/details/cheeseheads-documentary-screening-14690
END:VEVENT

END:VCALENDAR
