BEGIN:VCALENDAR
VERSION:2.0
PRODID:-//ChamberMaster//Event Calendar 2.0//EN
METHOD:PUBLISH
X-PUBLISHED-TTL:P3D
REFRESH-INTERVAL:P3D
CALSCALE:GREGORIAN
BEGIN:VEVENT
DTSTART:20181127T000000Z
DTEND:20181127T010000Z
X-MICROSOFT-CDO-ALLDAYEVENT:FALSE
SUMMARY:Chess Club
DESCRIPTION:The Ruth Culver Community Library's chess club meets Monday\, November 26 at 6:00 p.m. and will be led by Merrimac teacher Jenna McCann.  Instruction is provided as needed and parents are encouraged to play with their children OR children pair up with another attendee. Snack provided. Contact Beth at 643-8318 with questions.
X-ALT-DESC;FMTTYPE=text/html:The Ruth Culver Community Library&#39\;s chess club meets Monday\, November 26 at 6:00 p.m. and will be led by Merrimac teacher Jenna McCann.&nbsp\; Instruction is provided as needed and parents are encouraged to play with their children OR children pair up with another attendee. Snack provided. Contact Beth at 643-8318 with questions.
LOCATION:Ruth Culver Community Library 540 Water Street\, Prairie du Sac
UID:e.1184.20926
SEQUENCE:3
DTSTAMP:20260424T021936Z
URL:http://members.saukprairie.com/events/details/chess-club-11-26-2018-20926
END:VEVENT

END:VCALENDAR
