BEGIN:VCALENDAR
VERSION:2.0
PRODID:-//ChamberMaster//Event Calendar 2.0//EN
METHOD:PUBLISH
X-PUBLISHED-TTL:P3D
REFRESH-INTERVAL:P3D
CALSCALE:GREGORIAN
BEGIN:VEVENT
DTSTART:20190401T230000Z
DTEND:20190402T000000Z
X-MICROSOFT-CDO-ALLDAYEVENT:FALSE
SUMMARY:Chess Club for Kids
DESCRIPTION:The Ruth Culver Community Library's chess club meets Monday\, April 1 at 6:00 p.m. and will be led by Merrimac teacher Jenna McCann.  Instruction is provided as needed and parents are encouraged to play with their children OR children pair up with another attendee. Snack provided. Contact Beth at 643-8318 with questions.
X-ALT-DESC;FMTTYPE=text/html:<span style="background-color:transparent\; color:rgb(68\, 68\, 68)\; font-family:arial\,helvetica\,sans-serif\; font-size:14px">The Ruth Culver Community Library&#39\;s chess club meets Monday\, April 1 at 6:00 p.m. and will be led by Merrimac teacher Jenna McCann.&nbsp\; Instruction is provided as needed and parents are encouraged to play with their children OR children pair up with another attendee. Snack provided. Contact Beth at 643-8318 with questions.</span>
LOCATION:Ruth Culver Community Library 540 Water Street\, Prairie du Sac
UID:e.1184.21626
SEQUENCE:3
DTSTAMP:20260423T201840Z
URL:http://members.saukprairie.com/events/details/chess-club-for-kids-04-01-2019-21626
END:VEVENT

END:VCALENDAR
