BEGIN:VCALENDAR
VERSION:2.0
PRODID:-//ChamberMaster//Event Calendar 2.0//EN
METHOD:PUBLISH
X-PUBLISHED-TTL:P3D
REFRESH-INTERVAL:P3D
CALSCALE:GREGORIAN
BEGIN:VEVENT
DTSTART:20191007T230000Z
DTEND:20191008T000000Z
X-MICROSOFT-CDO-ALLDAYEVENT:FALSE
SUMMARY:Chess Club for Kids
DESCRIPTION:School-age children and (optional) parents are invited to the Ruth Culver Community Library's chess club for kids at 6:00 p.m. on the first Monday of October and December. Beginner's instruction provided by Jenna McCann. Contact Beth at 643-8318 with questions.
X-ALT-DESC;FMTTYPE=text/html:School-age children and (optional) parents are invited to the Ruth Culver Community Library&#39\;s chess club for kids at 6:00 p.m. on the first Monday of October and December. Beginner&#39\;s instruction provided by Jenna McCann. Contact Beth at 643-8318 with questions.
LOCATION:Ruth Culver Community Library 540 Water Street\, Prairie du Sac
UID:e.1184.23149
SEQUENCE:3
DTSTAMP:20260423T100351Z
URL:http://members.saukprairie.com/events/details/chess-club-for-kids-10-07-2019-23149
END:VEVENT

END:VCALENDAR
