BEGIN:VCALENDAR
VERSION:2.0
PRODID:-//ChamberMaster//Event Calendar 2.0//EN
METHOD:PUBLISH
X-PUBLISHED-TTL:P3D
REFRESH-INTERVAL:P3D
CALSCALE:GREGORIAN
BEGIN:VEVENT
DTSTART:20190817T150000Z
DTEND:20190817T180000Z
X-MICROSOFT-CDO-ALLDAYEVENT:FALSE
SUMMARY:Chevy All Star Open House
DESCRIPTION:Join Ballweg Chevrolet Buick for the Chevy All Star Open House on August 17th. During the open house enjoy a free lunch provided by Ballweg and served by the Sauk Prairie FFA! \n\n\n\nThe open house will offer contests and prizes on items like Yeti mugs\, Weber grills\, grill accessories\, and more! Receive exclusive coupons for service and accessories from Ballweg Chevrolet Buick! \n\n\n\nThis event is RSVP only. RSVP today by calling (608) 643-8571 or email events@ballweg.com. Anyone who RSVP's will receives a free t-shirt upon arrive to the open house. We hope to see you there!
X-ALT-DESC;FMTTYPE=text/html:<span style="color: rgb(29\, 33\, 41)\; font-family: Helvetica\, Arial\, sans-serif\; font-size: 14px\; white-space: pre-wrap\;">Join Ballweg Chevrolet Buick for the Chevy All Star Open House on August 17th. During the open house enjoy a free lunch provided by Ballweg and served by the Sauk Prairie FFA! </span><br style="color: rgb(29\, 33\, 41)\; font-family: Helvetica\, Arial\, sans-serif\; font-size: 14px\; white-space: pre-wrap\;" />\n<br style="color: rgb(29\, 33\, 41)\; font-family: Helvetica\, Arial\, sans-serif\; font-size: 14px\; white-space: pre-wrap\;" />\n<span style="color: rgb(29\, 33\, 41)\; font-family: Helvetica\, Arial\, sans-serif\; font-size: 14px\; white-space: pre-wrap\;">The open house will offer contests and prizes on items like Yeti mugs\, Weber grills\, grill accessories\, and more! Receive exclusive coupons for service and accessories from Ballweg Chevrolet Buick! </span><br style="color: rgb(29\, 33\, 41)\; font-family: Helvetica\, Arial\, sans-serif\; font-size: 14px\; white-space: pre-wrap\;" />\n<br style="color: rgb(29\, 33\, 41)\; font-family: Helvetica\, Arial\, sans-serif\; font-size: 14px\; white-space: pre-wrap\;" />\n<span style="color: rgb(29\, 33\, 41)\; font-family: Helvetica\, Arial\, sans-serif\; font-size: 14px\; white-space: pre-wrap\;">This event is RSVP only. RSVP today by calling (608) 643-8571 or email events@ballweg.com. Anyone who RSVP&#39\;s will receives a free t-shirt upon arrive to the open house. We hope to see you there! </span>
LOCATION:Ballweg Chevrolet Buick 783 Phillips Blvd. Sauk City
UID:e.1184.22716
SEQUENCE:3
DTSTAMP:20260423T124304Z
URL:http://members.saukprairie.com/events/details/chevy-all-star-open-house-22716
END:VEVENT

END:VCALENDAR
