BEGIN:VCALENDAR
VERSION:2.0
PRODID:-//ChamberMaster//Event Calendar 2.0//EN
METHOD:PUBLISH
X-PUBLISHED-TTL:P3D
REFRESH-INTERVAL:P3D
CALSCALE:GREGORIAN
BEGIN:VEVENT
DTSTART:20210502T210000Z
DTEND:20210503T000000Z
X-MICROSOFT-CDO-ALLDAYEVENT:FALSE
SUMMARY:Chicken & Dumpling Super
DESCRIPTION:CHICKEN & DUMPLING SUPPER\n\n*DRIVE-THROUGH ONLY!!*\n\n\n\nSunday May 2\, 2021   4-7 P.M.\n\n$10.00\n\n2 dumplings with chicken and gravy\, carrots\,\n\nand cherry or blueberry dessert\n\n(NO beverage or plastic-ware included)\n\n \n\nBlack Hawk Bethlehem United Methodist Church\n\nS10174 County Road C\n\nSauk City\, WI  53583\n\n12 miles west of Sauk City - 7 miles east of Plain\n\n*CARRY OUTS ONLY*
X-ALT-DESC;FMTTYPE=text/html:<p style="color: rgb(0\, 0\, 0)\; font-family: &quot\;Times New Roman&quot\;\; font-size: medium\;"><span style="background:aqua\;"><span style="color:black\;"><span style="font-family:cooper black\,serif\;"><span style="font-size:48.0pt\;">CHICKEN &amp\; DUMPLING SUPPER</span></span></span></span><br />\n<strong><span style="color:black\;"><span style="font-family:calibri\,sans-serif\;"><span style="font-size:28.0pt\;">*DRIVE-THROUGH ONLY!!*</span></span></span></strong><br />\n<br />\n<strong><span style="color:black\;"><span style="font-size:28.0pt\;">Sunday May 2\, 2021&nbsp\; &nbsp\;4-7 P.M.</span></span></strong><br />\n<strong><span style="color:black\;"><span style="font-family:calibri\,sans-serif\;"><span style="font-size:18.0pt\;">$10.00</span></span></span></strong><br />\n<strong><span style="color:black\;"><span style="font-family:calibri\,sans-serif\;"><span style="font-size:18.0pt\;">2 dumplings with chicken and gravy\, carrots\,</span></span></span></strong><br />\n<strong><span style="color:black\;"><span style="font-family:calibri\,sans-serif\;"><span style="font-size:18.0pt\;">and cherry or blueberry dessert</span></span></span></strong><br />\n<strong><span style="color:black\;"><span style="font-family:calibri\,sans-serif\;"><span style="font-size:18.0pt\;">(NO beverage or plastic-ware included)</span></span></span></strong><br />\n&nbsp\;<br />\n<strong><span style="color:red\;"><span style="font-family:calibri\,sans-serif\;"><span style="font-size:24.0pt\;">Black Hawk Bethlehem United Methodist Church</span></span></span></strong><br />\n<strong><span style="color:black\;"><span style="font-family:calibri\,sans-serif\;"><span style="font-size:18.0pt\;">S10174 County Road C</span></span></span></strong><br />\n<strong><span style="color:black\;"><span style="font-family:calibri\,sans-serif\;"><span style="font-size:18.0pt\;">Sauk City\, WI&nbsp\; 53583</span></span></span></strong><br />\n<strong><span style="color:black\;"><span style="font-family:calibri\,sans-serif\;"><span style="font-size:18.0pt\;">12 miles west of Sauk City - 7 miles east of Plain</span></span></span></strong><br />\n<strong><span style="color:black\;"><span style="font-family:calibri\,sans-serif\;"><span style="font-size:48.0pt\;">*CARRY OUTS ONLY*</span></span></span></strong></p>\n
LOCATION:
UID:e.1184.26585
SEQUENCE:3
DTSTAMP:20260422T051134Z
URL:http://members.saukprairie.com/events/details/chicken-dumpling-super-26585
END:VEVENT

END:VCALENDAR
