BEGIN:VCALENDAR
VERSION:2.0
PRODID:-//ChamberMaster//Event Calendar 2.0//EN
METHOD:PUBLISH
X-PUBLISHED-TTL:P3D
REFRESH-INTERVAL:P3D
CALSCALE:GREGORIAN
BEGIN:VEVENT
DTSTART:20230423T210000Z
DTEND:20230424T000000Z
X-MICROSOFT-CDO-ALLDAYEVENT:FALSE
SUMMARY:Chicken & Dumplings Dinner
DESCRIPTION:Blackhawk Bethlehem Church Chicken & Dumplings Dinner Sunday April 23 from 4-7pm. $15 meal includes Savory Chicken with Gravy\, Seasoned Carrots\, Cranberry Sauce\, Beverage\, & Cherry or Blueberry Dessert. Dine in or carry-out.
X-ALT-DESC;FMTTYPE=text/html:Blackhawk Bethlehem Church Chicken &amp\; Dumplings Dinner Sunday April 23 from 4-7pm. $15 meal includes Savory Chicken with Gravy\, Seasoned Carrots\, Cranberry Sauce\, Beverage\, &amp\; Cherry or Blueberry Dessert. Dine in or carry-out.
LOCATION:S10174 County Road C\, Sauk City\, WI 53583
UID:e.1184.30727
SEQUENCE:3
DTSTAMP:20260420T153708Z
URL:http://members.saukprairie.com/events/details/chicken-dumplings-dinner-30727
END:VEVENT

END:VCALENDAR
