BEGIN:VCALENDAR
VERSION:2.0
PRODID:-//ChamberMaster//Event Calendar 2.0//EN
METHOD:PUBLISH
X-PUBLISHED-TTL:P3D
REFRESH-INTERVAL:P3D
CALSCALE:GREGORIAN
BEGIN:VEVENT
DTSTART:20211215T003000Z
DTEND:20211215T023000Z
X-MICROSOFT-CDO-ALLDAYEVENT:FALSE
SUMMARY:Childcare Meeting | Share Your Voice\, as a Provider!
DESCRIPTION:What Do We Need to Know About Childcare Options in Sauk Prairie?\n\nSHARE YOUR VOICE\, AS A PROVIDER \n\nso that Access & Affordability Can Become a Reality for All! \n\n\n\n Our Goal for this Meeting is to:\n\n    Thank you and your staff for being essential workers in our community\n\n    Identify how we can help your team thrive\n\n    Understand the community waitlist as a whole\n\n    Understand the challenges of providing child care \n\n    Consider how local government and business can help you grow and sustain your business\n\n\n\nThe Sauk Prairie Area Chamber of Commerce\, along with Wisconsin Early Childhood Association\, would like to hear your voice\, to help us find community solutions and resources. \n\n\n\nLearn about FREE resources available to you!\n\n	WEESSN streamlines tuition invoicing & payments\, enrollment  processes\, and child focused recordkeeping\, like child immunization & developmental screeners\, via a cloudbased technology.\n	WEESSN provides training and support for implementation of Farm to ECE practices to child care programs in the Network\, encouraging children and adults to have a healthy relationship with food.\n	WEESSN provides a substitute teacher pool for providers  cutting down on hiring and training costs.\n	Additionally\, WEESSN members gain access to the  Wisconsin Shared Education Resources (WISER)\, an on-line platform that houses thousands of materials and pedagogical supports vetted by national experts.
X-ALT-DESC;FMTTYPE=text/html:What Do We Need to Know About Childcare Options in Sauk Prairie?<br />\nSHARE YOUR VOICE\, AS A PROVIDER&nbsp\;<br />\nso that Access &amp\; Affordability&nbsp\;Can Become a Reality for All!&nbsp\;<br />\n<br />\n&nbsp\;Our Goal for this Meeting is to:<br />\n&radic\;&nbsp\; &nbsp\;Thank you and your staff for being essential workers in our community<br />\n&radic\;&nbsp\; &nbsp\;Identify how we can help your team thrive<br />\n&radic\;&nbsp\; &nbsp\;Understand the community waitlist as a whole<br />\n&radic\;&nbsp\; &nbsp\;Understand the challenges of providing child care&nbsp\;<br />\n&radic\;&nbsp\; &nbsp\;Consider how local government and business can help you grow and sustain your business<br />\n<br />\nThe Sauk Prairie Area Chamber of Commerce\,&nbsp\;along with Wisconsin Early Childhood Association\,&nbsp\;would like to hear your voice\, to help us find community solutions and resources.&nbsp\;<br />\n<br />\nLearn about FREE resources available to you!\n<ul>\n	<li>WEESSN streamlines tuition invoicing &amp\; payments\, enrollment&nbsp\; processes\, and child focused recordkeeping\, like child immunization &amp\; developmental screeners\, via a cloudbased technology.</li>\n	<li>WEESSN provides training and support for implementation of Farm to ECE practices to child care programs in the Network\, encouraging children and adults to have a healthy relationship with food.</li>\n	<li>WEESSN provides a substitute teacher pool for providers&nbsp\; cutting down on hiring and training costs.</li>\n	<li>Additionally\, WEESSN members gain access to the&nbsp\; Wisconsin Shared Education Resources (WISER)\, an on-line platform that houses thousands of materials and pedagogical supports vetted&nbsp\;by national experts.</li>\n</ul>\n
LOCATION:Sauk Prairie Riverway Welcome Center 109 Phillips Blvd.\, Sauk City
UID:e.1184.26926
SEQUENCE:3
DTSTAMP:20260421T203009Z
URL:http://members.saukprairie.com/events/details/childcare-meeting-share-your-voice-as-a-provider-26926
END:VEVENT

END:VCALENDAR
