BEGIN:VCALENDAR
VERSION:2.0
PRODID:-//ChamberMaster//Event Calendar 2.0//EN
METHOD:PUBLISH
X-PUBLISHED-TTL:P3D
REFRESH-INTERVAL:P3D
CALSCALE:GREGORIAN
BEGIN:VEVENT
DTSTART:20160429T230000Z
DTEND:20160430T003000Z
X-MICROSOFT-CDO-ALLDAYEVENT:FALSE
SUMMARY:Children's Day/Book Day
DESCRIPTION:Join comedian\, actor and juggler Jacob Mills from Wild Rumpus Circus in the big show! Watch out...you just might end up in the show too! This event will be fun for the entire family and will also include pi atas\, book prize drawings and refreshments. Contact Heather Cole\, Bilingual Library Aide at 643-8318 with questions.
X-ALT-DESC;FMTTYPE=text/html:Join comedian\, actor and juggler Jacob Mills from Wild Rumpus Circus in the big show! Watch out...you just might end up in the show too! This event will be fun for the entire family and will also include pi&ntilde\;atas\, book prize drawings and refreshments. Contact Heather Cole\, Bilingual Library Aide at 643-8318 with questions.
LOCATION:Ruth Culver Community Library 540 Water Street\, Prairie du Sac
UID:e.1184.8415
SEQUENCE:3
DTSTAMP:20260426T033451Z
URL:http://members.saukprairie.com/events/details/children-s-day-book-day-04-29-2016-8415
END:VEVENT

END:VCALENDAR
